BEGIN:VCALENDAR
VERSION:2.0
PRODID:-//Father&#039;s Heart Church International - ECPv6.15.20//NONSGML v1.0//EN
CALSCALE:GREGORIAN
METHOD:PUBLISH
X-ORIGINAL-URL:https://wearefhci.com
X-WR-CALDESC:Events for Father&#039;s Heart Church International
REFRESH-INTERVAL;VALUE=DURATION:PT1H
X-Robots-Tag:noindex
X-PUBLISHED-TTL:PT1H
BEGIN:VTIMEZONE
TZID:America/Chicago
BEGIN:DAYLIGHT
TZOFFSETFROM:-0600
TZOFFSETTO:-0500
TZNAME:CDT
DTSTART:20240310T080000
END:DAYLIGHT
BEGIN:STANDARD
TZOFFSETFROM:-0500
TZOFFSETTO:-0600
TZNAME:CST
DTSTART:20241103T070000
END:STANDARD
BEGIN:DAYLIGHT
TZOFFSETFROM:-0600
TZOFFSETTO:-0500
TZNAME:CDT
DTSTART:20250309T080000
END:DAYLIGHT
BEGIN:STANDARD
TZOFFSETFROM:-0500
TZOFFSETTO:-0600
TZNAME:CST
DTSTART:20251102T070000
END:STANDARD
BEGIN:DAYLIGHT
TZOFFSETFROM:-0600
TZOFFSETTO:-0500
TZNAME:CDT
DTSTART:20260308T080000
END:DAYLIGHT
BEGIN:STANDARD
TZOFFSETFROM:-0500
TZOFFSETTO:-0600
TZNAME:CST
DTSTART:20261101T070000
END:STANDARD
END:VTIMEZONE
BEGIN:VEVENT
DTSTART;TZID=America/Chicago:20250417T190000
DTEND;TZID=America/Chicago:20250417T200000
DTSTAMP:20260421T135551
CREATED:20250325T174720Z
LAST-MODIFIED:20250409T155205Z
UID:7753-1744916400-1744920000@wearefhci.com
SUMMARY:Bible Journal Study
DESCRIPTION:Join Pastor Maria as she leads us through the book of Psalms! \nViews: 5
URL:https://wearefhci.com/event/bible-journal-study-8/
LOCATION:Zoom
ATTACH;FMTTYPE=image/jpeg:https://wearefhci.com/wp-content/uploads/2025/03/PHOTO-2025-04-06-10-00-36.jpg
ORGANIZER;CN="Without Walls Ministry":MAILTO:withoutwallsministry2024@gmail.com
END:VEVENT
BEGIN:VEVENT
DTSTART;TZID=America/Chicago:20250416T180000
DTEND;TZID=America/Chicago:20250416T190000
DTSTAMP:20260421T135551
CREATED:20250325T174634Z
LAST-MODIFIED:20250325T174634Z
UID:7751-1744826400-1744830000@wearefhci.com
SUMMARY:Cultivating a Unique Bond
DESCRIPTION:Join Pastors Carlos & Maria Almendarez as they explore the Names of God. \nViews: 5
URL:https://wearefhci.com/event/cultivating-a-unique-bond-11/
LOCATION:Zoom
CATEGORIES:Culture Clash
ATTACH;FMTTYPE=image/jpeg:https://wearefhci.com/wp-content/uploads/2024/04/Carlos-Maria-2.jpeg
END:VEVENT
BEGIN:VEVENT
DTSTART;TZID=America/Chicago:20250414T190000
DTEND;TZID=America/Chicago:20250414T200000
DTSTAMP:20260421T135551
CREATED:20250325T174602Z
LAST-MODIFIED:20250325T174602Z
UID:7748-1744657200-1744660800@wearefhci.com
SUMMARY:Life Group 2025
DESCRIPTION:Let’s dive deep into Matthew 6:33 with Pastor Yo! \nViews: 5
URL:https://wearefhci.com/event/life-group-2025-7/
LOCATION:Zoom
ATTACH;FMTTYPE=image/png:https://wearefhci.com/wp-content/uploads/2025/03/8009490362815311717.png
END:VEVENT
BEGIN:VEVENT
DTSTART;TZID=America/Chicago:20250413T170000
DTEND;TZID=America/Chicago:20250413T180000
DTSTAMP:20260421T135551
CREATED:20250325T174452Z
LAST-MODIFIED:20250325T174452Z
UID:7746-1744563600-1744567200@wearefhci.com
SUMMARY:FHCI Massachusetts Sunday Service
DESCRIPTION:Join Pastors Carlos & Maria Almendarez for FHCI Massachusetts Sunday Worship Service! \nViews: 5
URL:https://wearefhci.com/event/fhci-massachusetts-sunday-service-15/
LOCATION:Facebook Live
CATEGORIES:Sunday Service
ATTACH;FMTTYPE=image/jpeg:https://wearefhci.com/wp-content/uploads/2025/01/IMG_6923.jpg
ORGANIZER;CN="Without Walls Ministry":MAILTO:withoutwallsministry2024@gmail.com
END:VEVENT
BEGIN:VEVENT
DTSTART;TZID=America/Chicago:20250413T103000
DTEND;TZID=America/Chicago:20250413T120000
DTSTAMP:20260421T135551
CREATED:20250325T174414Z
LAST-MODIFIED:20250325T174414Z
UID:7744-1744540200-1744545600@wearefhci.com
SUMMARY:FHCI Worship & Word Service
DESCRIPTION:Come join us! \nViews: 5
URL:https://wearefhci.com/event/fhci-worship-word-service-23/
LOCATION:Fathers Heart Church International\, 5824 W. Diversey\, Chicago\, IL\, 60639\, United States
CATEGORIES:Sunday Service
ATTACH;FMTTYPE=image/jpeg:https://wearefhci.com/wp-content/uploads/2024/02/JPEG-e1707760486717.jpg
END:VEVENT
BEGIN:VEVENT
DTSTART;TZID=America/Chicago:20250409T193000
DTEND;TZID=America/Chicago:20250409T203000
DTSTAMP:20260421T135551
CREATED:20250325T174256Z
LAST-MODIFIED:20250325T174256Z
UID:7739-1744227000-1744230600@wearefhci.com
SUMMARY:Choque Cultural
DESCRIPTION:Estudio biblico con el Apostol David Cruz \nViews: 5
URL:https://wearefhci.com/event/choque-cultural-15/
LOCATION:Zoom
CATEGORIES:Choque Cultural
ATTACH;FMTTYPE=image/jpeg:https://wearefhci.com/wp-content/uploads/2025/03/6478922312950148910.jpg
END:VEVENT
BEGIN:VEVENT
DTSTART;TZID=America/Chicago:20250409T180000
DTEND;TZID=America/Chicago:20250409T190000
DTSTAMP:20260421T135551
CREATED:20250325T174137Z
LAST-MODIFIED:20250325T174137Z
UID:7737-1744221600-1744225200@wearefhci.com
SUMMARY:Cultivating a Unique Bond
DESCRIPTION:Join Pastors Carlos & Maria Almendarez as they explore the Names of God. \nViews: 5
URL:https://wearefhci.com/event/cultivating-a-unique-bond-10/
LOCATION:Zoom
CATEGORIES:Culture Clash
ATTACH;FMTTYPE=image/jpeg:https://wearefhci.com/wp-content/uploads/2024/04/Carlos-Maria-2.jpeg
END:VEVENT
BEGIN:VEVENT
DTSTART;TZID=America/Chicago:20250406T170000
DTEND;TZID=America/Chicago:20250406T180000
DTSTAMP:20260421T135551
CREATED:20250325T163546Z
LAST-MODIFIED:20250325T163546Z
UID:7735-1743958800-1743962400@wearefhci.com
SUMMARY:FHCI Massachusetts Sunday Service
DESCRIPTION:Join Pastors Carlos & Maria Almendarez for FHCI Massachusetts Sunday Worship Service! \nViews: 5
URL:https://wearefhci.com/event/fhci-massachusetts-sunday-service-14/
LOCATION:Facebook Live
CATEGORIES:Sunday Service
ATTACH;FMTTYPE=image/jpeg:https://wearefhci.com/wp-content/uploads/2025/01/IMG_6923.jpg
ORGANIZER;CN="Without Walls Ministry":MAILTO:withoutwallsministry2024@gmail.com
END:VEVENT
BEGIN:VEVENT
DTSTART;TZID=America/Chicago:20250406T103000
DTEND;TZID=America/Chicago:20250406T120000
DTSTAMP:20260421T135551
CREATED:20250325T163501Z
LAST-MODIFIED:20250325T163501Z
UID:7733-1743935400-1743940800@wearefhci.com
SUMMARY:FHCI Worship & Word Service
DESCRIPTION:Come join us! \nViews: 5
URL:https://wearefhci.com/event/fhci-worship-word-service-22/
LOCATION:Fathers Heart Church International\, 5824 W. Diversey\, Chicago\, IL\, 60639\, United States
CATEGORIES:Sunday Service
ATTACH;FMTTYPE=image/jpeg:https://wearefhci.com/wp-content/uploads/2024/02/JPEG-e1707760486717.jpg
END:VEVENT
BEGIN:VEVENT
DTSTART;TZID=America/Chicago:20250403T190000
DTEND;TZID=America/Chicago:20250403T200000
DTSTAMP:20260421T135551
CREATED:20250325T163404Z
LAST-MODIFIED:20250325T163404Z
UID:7730-1743706800-1743710400@wearefhci.com
SUMMARY:Bible Journal Study
DESCRIPTION:Join Pastor Maria as she leads us through the book of Psalms! \nViews: 5
URL:https://wearefhci.com/event/bible-journal-study-7/
LOCATION:Zoom
ATTACH;FMTTYPE=image/jpeg:https://wearefhci.com/wp-content/uploads/2025/03/PHOTO-2025-03-16-09-15-11.jpg
ORGANIZER;CN="Without Walls Ministry":MAILTO:withoutwallsministry2024@gmail.com
END:VEVENT
BEGIN:VEVENT
DTSTART;TZID=America/Chicago:20250402T180000
DTEND;TZID=America/Chicago:20250402T190000
DTSTAMP:20260421T135551
CREATED:20250325T163215Z
LAST-MODIFIED:20250325T163215Z
UID:7728-1743616800-1743620400@wearefhci.com
SUMMARY:Cultivating a Unique Bond
DESCRIPTION:Join Pastors Carlos & Maria Almendarez as they explore the Names of God. \nViews: 5
URL:https://wearefhci.com/event/cultivating-a-unique-bond-9/
LOCATION:Zoom
CATEGORIES:Culture Clash
ATTACH;FMTTYPE=image/jpeg:https://wearefhci.com/wp-content/uploads/2024/04/Carlos-Maria-2.jpeg
END:VEVENT
BEGIN:VEVENT
DTSTART;TZID=America/Chicago:20250330T170000
DTEND;TZID=America/Chicago:20250330T180000
DTSTAMP:20260421T135551
CREATED:20250225T174745Z
LAST-MODIFIED:20250225T174745Z
UID:7660-1743354000-1743357600@wearefhci.com
SUMMARY:FHCI Massachusetts Sunday Service
DESCRIPTION:Join Pastors Carlos & Maria Almendarez for FHCI Massachusetts Sunday Worship Service! \nViews: 5
URL:https://wearefhci.com/event/fhci-massachusetts-sunday-service-13/
LOCATION:Facebook Live
CATEGORIES:Sunday Service
ATTACH;FMTTYPE=image/jpeg:https://wearefhci.com/wp-content/uploads/2025/01/IMG_6923.jpg
ORGANIZER;CN="Without Walls Ministry":MAILTO:withoutwallsministry2024@gmail.com
END:VEVENT
BEGIN:VEVENT
DTSTART;TZID=America/Chicago:20250330T103000
DTEND;TZID=America/Chicago:20250330T120000
DTSTAMP:20260421T135551
CREATED:20250225T174712Z
LAST-MODIFIED:20250225T174712Z
UID:7658-1743330600-1743336000@wearefhci.com
SUMMARY:FHCI Worship & Word Service
DESCRIPTION:Come join us! \nViews: 5
URL:https://wearefhci.com/event/fhci-worship-word-service-21/
LOCATION:Fathers Heart Church International\, 5824 W. Diversey\, Chicago\, IL\, 60639\, United States
CATEGORIES:Sunday Service
ATTACH;FMTTYPE=image/jpeg:https://wearefhci.com/wp-content/uploads/2024/02/JPEG-e1707760486717.jpg
END:VEVENT
BEGIN:VEVENT
DTSTART;TZID=America/Chicago:20250326T180000
DTEND;TZID=America/Chicago:20250326T190000
DTSTAMP:20260421T135551
CREATED:20250225T174555Z
LAST-MODIFIED:20250225T174555Z
UID:7654-1743012000-1743015600@wearefhci.com
SUMMARY:Cultivating a Unique Bond
DESCRIPTION:Join Pastors Carlos & Maria Almendarez as they explore the Names of God. \nViews: 5
URL:https://wearefhci.com/event/cultivating-a-unique-bond-8/
LOCATION:Zoom
CATEGORIES:Culture Clash
ATTACH;FMTTYPE=image/jpeg:https://wearefhci.com/wp-content/uploads/2024/04/Carlos-Maria-2.jpeg
END:VEVENT
BEGIN:VEVENT
DTSTART;TZID=America/Chicago:20250324T190000
DTEND;TZID=America/Chicago:20250324T200000
DTSTAMP:20260421T135551
CREATED:20250225T174632Z
LAST-MODIFIED:20250225T174632Z
UID:7656-1742842800-1742846400@wearefhci.com
SUMMARY:Life Group 2025
DESCRIPTION:Let’s dive deep into Matthew 6:33 with Pastor Yo! \nViews: 5
URL:https://wearefhci.com/event/life-group-2025-6/
LOCATION:Zoom
ATTACH;FMTTYPE=image/jpeg:https://wearefhci.com/wp-content/uploads/2025/02/65cf8b89-3197-47ca-b375-9693389e9ef6.jpg
END:VEVENT
BEGIN:VEVENT
DTSTART;TZID=America/Chicago:20250323T170000
DTEND;TZID=America/Chicago:20250323T180000
DTSTAMP:20260421T135551
CREATED:20250225T174522Z
LAST-MODIFIED:20250225T174522Z
UID:7652-1742749200-1742752800@wearefhci.com
SUMMARY:FHCI Massachusetts Sunday Service
DESCRIPTION:Join Pastors Carlos & Maria Almendarez for FHCI Massachusetts Sunday Worship Service! \nViews: 5
URL:https://wearefhci.com/event/fhci-massachusetts-sunday-service-12/
LOCATION:Facebook Live
CATEGORIES:Sunday Service
ATTACH;FMTTYPE=image/jpeg:https://wearefhci.com/wp-content/uploads/2025/01/IMG_6923.jpg
ORGANIZER;CN="Without Walls Ministry":MAILTO:withoutwallsministry2024@gmail.com
END:VEVENT
BEGIN:VEVENT
DTSTART;TZID=America/Chicago:20250323T103000
DTEND;TZID=America/Chicago:20250323T120000
DTSTAMP:20260421T135551
CREATED:20250225T174453Z
LAST-MODIFIED:20250225T174453Z
UID:7650-1742725800-1742731200@wearefhci.com
SUMMARY:FHCI Worship & Word Service
DESCRIPTION:Come join us! \nViews: 5
URL:https://wearefhci.com/event/fhci-worship-word-service-20/
LOCATION:Fathers Heart Church International\, 5824 W. Diversey\, Chicago\, IL\, 60639\, United States
CATEGORIES:Sunday Service
ATTACH;FMTTYPE=image/jpeg:https://wearefhci.com/wp-content/uploads/2024/02/JPEG-e1707760486717.jpg
END:VEVENT
BEGIN:VEVENT
DTSTART;TZID=America/Chicago:20250320T200000
DTEND;TZID=America/Chicago:20250320T210000
DTSTAMP:20260421T135551
CREATED:20250225T174419Z
LAST-MODIFIED:20250304T221245Z
UID:7648-1742500800-1742504400@wearefhci.com
SUMMARY:Bible Journal Study
DESCRIPTION:Join Pastor Maria as she leads us through the book of Psalms! \nViews: 5
URL:https://wearefhci.com/event/bible-journal-study-6/
LOCATION:Zoom
ATTACH;FMTTYPE=image/jpeg:https://wearefhci.com/wp-content/uploads/2025/02/f5dd94b0-0273-4be2-9152-ee1102a13743.jpg
ORGANIZER;CN="Without Walls Ministry":MAILTO:withoutwallsministry2024@gmail.com
END:VEVENT
BEGIN:VEVENT
DTSTART;TZID=America/Chicago:20250319T193000
DTEND;TZID=America/Chicago:20250319T203000
DTSTAMP:20260421T135551
CREATED:20250225T174335Z
LAST-MODIFIED:20250225T174335Z
UID:7646-1742412600-1742416200@wearefhci.com
SUMMARY:Choque Cultural
DESCRIPTION:Estudio biblico con el Apostol David Cruz \nViews: 5
URL:https://wearefhci.com/event/choque-cultural-14/
LOCATION:Zoom
CATEGORIES:Choque Cultural
ATTACH;FMTTYPE=image/jpeg:https://wearefhci.com/wp-content/uploads/2025/02/Black-Green-Simpel-Photo-Men-Fashion-Collection-Flyer_20250223_101651_0000.jpg
END:VEVENT
BEGIN:VEVENT
DTSTART;TZID=America/Chicago:20250319T180000
DTEND;TZID=America/Chicago:20250319T190000
DTSTAMP:20260421T135551
CREATED:20250225T174243Z
LAST-MODIFIED:20250225T174243Z
UID:7644-1742407200-1742410800@wearefhci.com
SUMMARY:Cultivating a Unique Bond
DESCRIPTION:Join Pastors Carlos & Maria Almendarez as they explore the Names of God. \nViews: 5
URL:https://wearefhci.com/event/cultivating-a-unique-bond-7/
LOCATION:Zoom
CATEGORIES:Culture Clash
ATTACH;FMTTYPE=image/jpeg:https://wearefhci.com/wp-content/uploads/2024/04/Carlos-Maria-2.jpeg
END:VEVENT
BEGIN:VEVENT
DTSTART;TZID=America/Chicago:20250316T170000
DTEND;TZID=America/Chicago:20250316T180000
DTSTAMP:20260421T135551
CREATED:20250225T174154Z
LAST-MODIFIED:20250225T174154Z
UID:7642-1742144400-1742148000@wearefhci.com
SUMMARY:FHCI Massachusetts Sunday Service
DESCRIPTION:Join Pastors Carlos & Maria Almendarez for FHCI Massachusetts Sunday Worship Service! \nViews: 5
URL:https://wearefhci.com/event/fhci-massachusetts-sunday-service-11/
LOCATION:Facebook Live
CATEGORIES:Sunday Service
ATTACH;FMTTYPE=image/jpeg:https://wearefhci.com/wp-content/uploads/2025/01/IMG_6923.jpg
ORGANIZER;CN="Without Walls Ministry":MAILTO:withoutwallsministry2024@gmail.com
END:VEVENT
BEGIN:VEVENT
DTSTART;TZID=America/Chicago:20250316T103000
DTEND;TZID=America/Chicago:20250316T120000
DTSTAMP:20260421T135551
CREATED:20250225T174125Z
LAST-MODIFIED:20250225T174125Z
UID:7640-1742121000-1742126400@wearefhci.com
SUMMARY:FHCI Worship & Word Service
DESCRIPTION:Come join us! \nViews: 5
URL:https://wearefhci.com/event/fhci-worship-word-service-19/
LOCATION:Fathers Heart Church International\, 5824 W. Diversey\, Chicago\, IL\, 60639\, United States
CATEGORIES:Sunday Service
ATTACH;FMTTYPE=image/jpeg:https://wearefhci.com/wp-content/uploads/2024/02/JPEG-e1707760486717.jpg
END:VEVENT
BEGIN:VEVENT
DTSTART;TZID=America/Chicago:20250313T200000
DTEND;TZID=America/Chicago:20250313T210000
DTSTAMP:20260421T135551
CREATED:20250223T001926Z
LAST-MODIFIED:20250304T221139Z
UID:7627-1741896000-1741899600@wearefhci.com
SUMMARY:Bible Journal Study
DESCRIPTION:Join Pastor Maria as she leads us through the book of Psalms! \nViews: 5
URL:https://wearefhci.com/event/bible-journal-study-5/
LOCATION:Zoom
ATTACH;FMTTYPE=image/jpeg:https://wearefhci.com/wp-content/uploads/2025/02/f5dd94b0-0273-4be2-9152-ee1102a13743.jpg
ORGANIZER;CN="Without Walls Ministry":MAILTO:withoutwallsministry2024@gmail.com
END:VEVENT
BEGIN:VEVENT
DTSTART;TZID=America/Chicago:20250312T180000
DTEND;TZID=America/Chicago:20250312T190000
DTSTAMP:20260421T135551
CREATED:20250223T001845Z
LAST-MODIFIED:20250223T001845Z
UID:7625-1741802400-1741806000@wearefhci.com
SUMMARY:Cultivating a Unique Bond
DESCRIPTION:Join Pastors Carlos & Maria Almendarez as they explore the Names of God. \nViews: 5
URL:https://wearefhci.com/event/cultivating-a-unique-bond-6/
LOCATION:Zoom
CATEGORIES:Culture Clash
ATTACH;FMTTYPE=image/jpeg:https://wearefhci.com/wp-content/uploads/2024/04/Carlos-Maria-2.jpeg
END:VEVENT
BEGIN:VEVENT
DTSTART;TZID=America/Chicago:20250310T190000
DTEND;TZID=America/Chicago:20250310T200000
DTSTAMP:20260421T135551
CREATED:20250223T002002Z
LAST-MODIFIED:20250225T173838Z
UID:7629-1741633200-1741636800@wearefhci.com
SUMMARY:Life Group 2025
DESCRIPTION:Let’s dive deep into Matthew 6:33 with Pastor Yo! \nViews: 5
URL:https://wearefhci.com/event/life-group-2025-5/
LOCATION:Zoom
ATTACH;FMTTYPE=image/jpeg:https://wearefhci.com/wp-content/uploads/2025/02/65cf8b89-3197-47ca-b375-9693389e9ef6.jpg
END:VEVENT
BEGIN:VEVENT
DTSTART;TZID=America/Chicago:20250309T170000
DTEND;TZID=America/Chicago:20250309T180000
DTSTAMP:20260421T135551
CREATED:20250223T001743Z
LAST-MODIFIED:20250223T001743Z
UID:7621-1741539600-1741543200@wearefhci.com
SUMMARY:FHCI Massachusetts Sunday Service
DESCRIPTION:Join Pastors Carlos & Maria Almendarez for FHCI Massachusetts Sunday Worship Service! \nViews: 5
URL:https://wearefhci.com/event/fhci-massachusetts-sunday-service-10/
LOCATION:Facebook Live
CATEGORIES:Sunday Service
ATTACH;FMTTYPE=image/jpeg:https://wearefhci.com/wp-content/uploads/2025/01/IMG_6923.jpg
ORGANIZER;CN="Without Walls Ministry":MAILTO:withoutwallsministry2024@gmail.com
END:VEVENT
BEGIN:VEVENT
DTSTART;TZID=America/Chicago:20250309T103000
DTEND;TZID=America/Chicago:20250309T120000
DTSTAMP:20260421T135551
CREATED:20250223T001631Z
LAST-MODIFIED:20250223T001631Z
UID:7617-1741516200-1741521600@wearefhci.com
SUMMARY:FHCI Worship & Word Service
DESCRIPTION:Come join us! \nViews: 5
URL:https://wearefhci.com/event/fhci-worship-word-service-18/
LOCATION:Fathers Heart Church International\, 5824 W. Diversey\, Chicago\, IL\, 60639\, United States
CATEGORIES:Sunday Service
ATTACH;FMTTYPE=image/jpeg:https://wearefhci.com/wp-content/uploads/2024/02/JPEG-e1707760486717.jpg
END:VEVENT
BEGIN:VEVENT
DTSTART;TZID=America/Chicago:20250305T193000
DTEND;TZID=America/Chicago:20250305T203000
DTSTAMP:20260421T135551
CREATED:20250223T002045Z
LAST-MODIFIED:20250225T174036Z
UID:7631-1741203000-1741206600@wearefhci.com
SUMMARY:Choque Cultural
DESCRIPTION:Estudio biblico con el Apostol David Cruz \nViews: 5
URL:https://wearefhci.com/event/choque-cultural-12/
LOCATION:Zoom
CATEGORIES:Choque Cultural
ATTACH;FMTTYPE=image/jpeg:https://wearefhci.com/wp-content/uploads/2025/02/Black-Green-Simpel-Photo-Men-Fashion-Collection-Flyer_20250223_101651_0000.jpg
END:VEVENT
BEGIN:VEVENT
DTSTART;TZID=America/Chicago:20250305T180000
DTEND;TZID=America/Chicago:20250305T190000
DTSTAMP:20260421T135551
CREATED:20250223T001817Z
LAST-MODIFIED:20250223T001817Z
UID:7623-1741197600-1741201200@wearefhci.com
SUMMARY:Cultivating a Unique Bond
DESCRIPTION:Join Pastors Carlos & Maria Almendarez as they explore the Names of God. \nViews: 5
URL:https://wearefhci.com/event/cultivating-a-unique-bond-5/
LOCATION:Zoom
CATEGORIES:Culture Clash
ATTACH;FMTTYPE=image/jpeg:https://wearefhci.com/wp-content/uploads/2024/04/Carlos-Maria-2.jpeg
END:VEVENT
BEGIN:VEVENT
DTSTART;TZID=America/Chicago:20250302T170000
DTEND;TZID=America/Chicago:20250302T180000
DTSTAMP:20260421T135551
CREATED:20250223T001708Z
LAST-MODIFIED:20250223T001708Z
UID:7619-1740934800-1740938400@wearefhci.com
SUMMARY:FHCI Massachusetts Sunday Service
DESCRIPTION:Join Pastors Carlos & Maria Almendarez for FHCI Massachusetts Sunday Worship Service! \nViews: 5
URL:https://wearefhci.com/event/fhci-massachusetts-sunday-service-9/
LOCATION:Facebook Live
CATEGORIES:Sunday Service
ATTACH;FMTTYPE=image/jpeg:https://wearefhci.com/wp-content/uploads/2025/01/IMG_6923.jpg
ORGANIZER;CN="Without Walls Ministry":MAILTO:withoutwallsministry2024@gmail.com
END:VEVENT
END:VCALENDAR