BEGIN:VCALENDAR
VERSION:2.0
PRODID:-//Father&#039;s Heart Church International - ECPv6.15.20//NONSGML v1.0//EN
CALSCALE:GREGORIAN
METHOD:PUBLISH
X-WR-CALNAME:Father&#039;s Heart Church International
X-ORIGINAL-URL:https://wearefhci.com
X-WR-CALDESC:Events for Father&#039;s Heart Church International
REFRESH-INTERVAL;VALUE=DURATION:PT1H
X-Robots-Tag:noindex
X-PUBLISHED-TTL:PT1H
BEGIN:VTIMEZONE
TZID:America/Chicago
BEGIN:DAYLIGHT
TZOFFSETFROM:-0600
TZOFFSETTO:-0500
TZNAME:CDT
DTSTART:20240310T080000
END:DAYLIGHT
BEGIN:STANDARD
TZOFFSETFROM:-0500
TZOFFSETTO:-0600
TZNAME:CST
DTSTART:20241103T070000
END:STANDARD
BEGIN:DAYLIGHT
TZOFFSETFROM:-0600
TZOFFSETTO:-0500
TZNAME:CDT
DTSTART:20250309T080000
END:DAYLIGHT
BEGIN:STANDARD
TZOFFSETFROM:-0500
TZOFFSETTO:-0600
TZNAME:CST
DTSTART:20251102T070000
END:STANDARD
BEGIN:DAYLIGHT
TZOFFSETFROM:-0600
TZOFFSETTO:-0500
TZNAME:CDT
DTSTART:20260308T080000
END:DAYLIGHT
BEGIN:STANDARD
TZOFFSETFROM:-0500
TZOFFSETTO:-0600
TZNAME:CST
DTSTART:20261101T070000
END:STANDARD
END:VTIMEZONE
BEGIN:VEVENT
DTSTART;TZID=America/Chicago:20250310T190000
DTEND;TZID=America/Chicago:20250310T200000
DTSTAMP:20260421T162951
CREATED:20250223T002002Z
LAST-MODIFIED:20250225T173838Z
UID:7629-1741633200-1741636800@wearefhci.com
SUMMARY:Life Group 2025
DESCRIPTION:Let’s dive deep into Matthew 6:33 with Pastor Yo! \nViews: 2
URL:https://wearefhci.com/event/life-group-2025-5/
LOCATION:Zoom
ATTACH;FMTTYPE=image/jpeg:https://wearefhci.com/wp-content/uploads/2025/02/65cf8b89-3197-47ca-b375-9693389e9ef6.jpg
END:VEVENT
BEGIN:VEVENT
DTSTART;TZID=America/Chicago:20250309T170000
DTEND;TZID=America/Chicago:20250309T180000
DTSTAMP:20260421T162951
CREATED:20250223T001743Z
LAST-MODIFIED:20250223T001743Z
UID:7621-1741539600-1741543200@wearefhci.com
SUMMARY:FHCI Massachusetts Sunday Service
DESCRIPTION:Join Pastors Carlos & Maria Almendarez for FHCI Massachusetts Sunday Worship Service! \nViews: 2
URL:https://wearefhci.com/event/fhci-massachusetts-sunday-service-10/
LOCATION:Facebook Live
CATEGORIES:Sunday Service
ATTACH;FMTTYPE=image/jpeg:https://wearefhci.com/wp-content/uploads/2025/01/IMG_6923.jpg
ORGANIZER;CN="Without Walls Ministry":MAILTO:withoutwallsministry2024@gmail.com
END:VEVENT
BEGIN:VEVENT
DTSTART;TZID=America/Chicago:20250309T103000
DTEND;TZID=America/Chicago:20250309T120000
DTSTAMP:20260421T162951
CREATED:20250223T001631Z
LAST-MODIFIED:20250223T001631Z
UID:7617-1741516200-1741521600@wearefhci.com
SUMMARY:FHCI Worship & Word Service
DESCRIPTION:Come join us! \nViews: 2
URL:https://wearefhci.com/event/fhci-worship-word-service-18/
LOCATION:Fathers Heart Church International\, 5824 W. Diversey\, Chicago\, IL\, 60639\, United States
CATEGORIES:Sunday Service
ATTACH;FMTTYPE=image/jpeg:https://wearefhci.com/wp-content/uploads/2024/02/JPEG-e1707760486717.jpg
END:VEVENT
BEGIN:VEVENT
DTSTART;TZID=America/Chicago:20250305T193000
DTEND;TZID=America/Chicago:20250305T203000
DTSTAMP:20260421T162951
CREATED:20250223T002045Z
LAST-MODIFIED:20250225T174036Z
UID:7631-1741203000-1741206600@wearefhci.com
SUMMARY:Choque Cultural
DESCRIPTION:Estudio biblico con el Apostol David Cruz \nViews: 2
URL:https://wearefhci.com/event/choque-cultural-12/
LOCATION:Zoom
CATEGORIES:Choque Cultural
ATTACH;FMTTYPE=image/jpeg:https://wearefhci.com/wp-content/uploads/2025/02/Black-Green-Simpel-Photo-Men-Fashion-Collection-Flyer_20250223_101651_0000.jpg
END:VEVENT
BEGIN:VEVENT
DTSTART;TZID=America/Chicago:20250305T180000
DTEND;TZID=America/Chicago:20250305T190000
DTSTAMP:20260421T162951
CREATED:20250223T001817Z
LAST-MODIFIED:20250223T001817Z
UID:7623-1741197600-1741201200@wearefhci.com
SUMMARY:Cultivating a Unique Bond
DESCRIPTION:Join Pastors Carlos & Maria Almendarez as they explore the Names of God. \nViews: 2
URL:https://wearefhci.com/event/cultivating-a-unique-bond-5/
LOCATION:Zoom
CATEGORIES:Culture Clash
ATTACH;FMTTYPE=image/jpeg:https://wearefhci.com/wp-content/uploads/2024/04/Carlos-Maria-2.jpeg
END:VEVENT
BEGIN:VEVENT
DTSTART;TZID=America/Chicago:20250302T170000
DTEND;TZID=America/Chicago:20250302T180000
DTSTAMP:20260421T162951
CREATED:20250223T001708Z
LAST-MODIFIED:20250223T001708Z
UID:7619-1740934800-1740938400@wearefhci.com
SUMMARY:FHCI Massachusetts Sunday Service
DESCRIPTION:Join Pastors Carlos & Maria Almendarez for FHCI Massachusetts Sunday Worship Service! \nViews: 2
URL:https://wearefhci.com/event/fhci-massachusetts-sunday-service-9/
LOCATION:Facebook Live
CATEGORIES:Sunday Service
ATTACH;FMTTYPE=image/jpeg:https://wearefhci.com/wp-content/uploads/2025/01/IMG_6923.jpg
ORGANIZER;CN="Without Walls Ministry":MAILTO:withoutwallsministry2024@gmail.com
END:VEVENT
BEGIN:VEVENT
DTSTART;TZID=America/Chicago:20250302T103000
DTEND;TZID=America/Chicago:20250302T120000
DTSTAMP:20260421T162951
CREATED:20250223T001530Z
LAST-MODIFIED:20250223T001530Z
UID:7615-1740911400-1740916800@wearefhci.com
SUMMARY:FHCI Worship & Word Service
DESCRIPTION:Come join us! \nViews: 2
URL:https://wearefhci.com/event/fhci-worship-word-service-17/
LOCATION:Fathers Heart Church International\, 5824 W. Diversey\, Chicago\, IL\, 60639\, United States
CATEGORIES:Sunday Service
ATTACH;FMTTYPE=image/jpeg:https://wearefhci.com/wp-content/uploads/2024/02/JPEG-e1707760486717.jpg
END:VEVENT
BEGIN:VEVENT
DTSTART;TZID=America/Chicago:20250226T180000
DTEND;TZID=America/Chicago:20250226T190000
DTSTAMP:20260421T162951
CREATED:20250201T181833Z
LAST-MODIFIED:20250201T181833Z
UID:7580-1740592800-1740596400@wearefhci.com
SUMMARY:Cultivating a Unique Bond
DESCRIPTION:Join Pastors Carlos & Maria Almendarez as they explore the Names of God. \nViews: 2
URL:https://wearefhci.com/event/cultivating-a-unique-bond-4/
LOCATION:Zoom
CATEGORIES:Culture Clash
ATTACH;FMTTYPE=image/jpeg:https://wearefhci.com/wp-content/uploads/2024/04/Carlos-Maria-2.jpeg
END:VEVENT
BEGIN:VEVENT
DTSTART;TZID=America/Chicago:20250224T190000
DTEND;TZID=America/Chicago:20250224T200000
DTSTAMP:20260421T162951
CREATED:20250201T181759Z
LAST-MODIFIED:20250205T225341Z
UID:7578-1740423600-1740427200@wearefhci.com
SUMMARY:Life Group 2025
DESCRIPTION:Let’s dive deep into Matthew 6:33 with Pastor Yo! \nViews: 2
URL:https://wearefhci.com/event/life-group-2025-4/
LOCATION:Zoom
ATTACH;FMTTYPE=image/png:https://wearefhci.com/wp-content/uploads/2025/02/4107788847508785683.png
END:VEVENT
BEGIN:VEVENT
DTSTART;TZID=America/Chicago:20250223T170000
DTEND;TZID=America/Chicago:20250223T180000
DTSTAMP:20260421T162951
CREATED:20250201T181723Z
LAST-MODIFIED:20250201T181723Z
UID:7576-1740330000-1740333600@wearefhci.com
SUMMARY:FHCI Massachusetts Sunday Service
DESCRIPTION:Join Pastors Carlos & Maria Almendarez for FHCI Massachusetts Sunday Worship Service! \nViews: 2
URL:https://wearefhci.com/event/fhci-massachusetts-sunday-service-8/
LOCATION:Facebook Live
CATEGORIES:Sunday Service
ATTACH;FMTTYPE=image/jpeg:https://wearefhci.com/wp-content/uploads/2025/01/IMG_6923.jpg
ORGANIZER;CN="Without Walls Ministry":MAILTO:withoutwallsministry2024@gmail.com
END:VEVENT
BEGIN:VEVENT
DTSTART;TZID=America/Chicago:20250223T103000
DTEND;TZID=America/Chicago:20250223T120000
DTSTAMP:20260421T162951
CREATED:20250201T181650Z
LAST-MODIFIED:20250201T181650Z
UID:7574-1740306600-1740312000@wearefhci.com
SUMMARY:FHCI Worship & Word Service
DESCRIPTION:Come join us! \nViews: 2
URL:https://wearefhci.com/event/fhci-worship-word-service-16/
LOCATION:Fathers Heart Church International\, 5824 W. Diversey\, Chicago\, IL\, 60639\, United States
CATEGORIES:Sunday Service
ATTACH;FMTTYPE=image/jpeg:https://wearefhci.com/wp-content/uploads/2024/02/JPEG-e1707760486717.jpg
END:VEVENT
BEGIN:VEVENT
DTSTART;TZID=America/Chicago:20250220T200000
DTEND;TZID=America/Chicago:20250220T210000
DTSTAMP:20260421T162951
CREATED:20250201T181616Z
LAST-MODIFIED:20250205T225101Z
UID:7572-1740081600-1740085200@wearefhci.com
SUMMARY:Bible Journal Study
DESCRIPTION:Join Pastor Maria as she leads us through the book of Psalms! \nViews: 2
URL:https://wearefhci.com/event/bible-journal-study-4/
LOCATION:Zoom
ATTACH;FMTTYPE=image/jpeg:https://wearefhci.com/wp-content/uploads/2025/02/fcf359fb-5d48-4161-b018-805bfe18cfbb.jpg
ORGANIZER;CN="Without Walls Ministry":MAILTO:withoutwallsministry2024@gmail.com
END:VEVENT
BEGIN:VEVENT
DTSTART;TZID=America/Chicago:20250219T193000
DTEND;TZID=America/Chicago:20250219T203000
DTSTAMP:20260421T162951
CREATED:20250201T181541Z
LAST-MODIFIED:20250201T181541Z
UID:7570-1739993400-1739997000@wearefhci.com
SUMMARY:Choque Cultural
DESCRIPTION:Estudio biblico con el Apostol David Cruz \nViews: 2
URL:https://wearefhci.com/event/choque-cultural-13/
LOCATION:Zoom
CATEGORIES:Choque Cultural
ATTACH;FMTTYPE=image/jpeg:https://wearefhci.com/wp-content/uploads/2025/01/3321681274315020793.jpg
END:VEVENT
BEGIN:VEVENT
DTSTART;TZID=America/Chicago:20250219T180000
DTEND;TZID=America/Chicago:20250219T190000
DTSTAMP:20260421T162951
CREATED:20250201T181436Z
LAST-MODIFIED:20250201T181501Z
UID:7568-1739988000-1739991600@wearefhci.com
SUMMARY:Cultivating a Unique Bond
DESCRIPTION:Join Pastors Carlos & Maria Almendarez as they explore the Names of God. \nViews: 2
URL:https://wearefhci.com/event/cultivating-a-unique-bond-3/
LOCATION:Zoom
CATEGORIES:Culture Clash
ATTACH;FMTTYPE=image/jpeg:https://wearefhci.com/wp-content/uploads/2024/04/Carlos-Maria-2.jpeg
END:VEVENT
BEGIN:VEVENT
DTSTART;TZID=America/Chicago:20250216T170000
DTEND;TZID=America/Chicago:20250216T180000
DTSTAMP:20260421T162951
CREATED:20250201T181347Z
LAST-MODIFIED:20250201T181347Z
UID:7566-1739725200-1739728800@wearefhci.com
SUMMARY:FHCI Massachusetts Sunday Service
DESCRIPTION:Join Pastors Carlos & Maria Almendarez for FHCI Massachusetts Sunday Worship Service! \nViews: 2
URL:https://wearefhci.com/event/fhci-massachusetts-sunday-service-7/
LOCATION:Facebook Live
CATEGORIES:Sunday Service
ATTACH;FMTTYPE=image/jpeg:https://wearefhci.com/wp-content/uploads/2025/01/IMG_6923.jpg
ORGANIZER;CN="Without Walls Ministry":MAILTO:withoutwallsministry2024@gmail.com
END:VEVENT
BEGIN:VEVENT
DTSTART;TZID=America/Chicago:20250216T103000
DTEND;TZID=America/Chicago:20250216T120000
DTSTAMP:20260421T162951
CREATED:20250201T181316Z
LAST-MODIFIED:20250201T181316Z
UID:7564-1739701800-1739707200@wearefhci.com
SUMMARY:FHCI Worship & Word Service
DESCRIPTION:Come join us! \nViews: 2
URL:https://wearefhci.com/event/fhci-worship-word-service-15/
LOCATION:Fathers Heart Church International\, 5824 W. Diversey\, Chicago\, IL\, 60639\, United States
CATEGORIES:Sunday Service
ATTACH;FMTTYPE=image/jpeg:https://wearefhci.com/wp-content/uploads/2024/02/JPEG-e1707760486717.jpg
END:VEVENT
BEGIN:VEVENT
DTSTART;TZID=America/Chicago:20250212T180000
DTEND;TZID=America/Chicago:20250212T190000
DTSTAMP:20260421T162951
CREATED:20250201T162953Z
LAST-MODIFIED:20250201T162953Z
UID:7560-1739383200-1739386800@wearefhci.com
SUMMARY:Cultivating a Unique Bond
DESCRIPTION:Join Pastors Carlos & Maria Almendarez as they explore the Names of God. \nViews: 2
URL:https://wearefhci.com/event/cultivating-a-unique-bond-2/
LOCATION:Zoom
CATEGORIES:Culture Clash
ATTACH;FMTTYPE=image/jpeg:https://wearefhci.com/wp-content/uploads/2024/04/Carlos-Maria-2.jpeg
END:VEVENT
BEGIN:VEVENT
DTSTART;TZID=America/Chicago:20250210T190000
DTEND;TZID=America/Chicago:20250210T200000
DTSTAMP:20260421T162951
CREATED:20250201T162443Z
LAST-MODIFIED:20250205T225203Z
UID:7550-1739214000-1739217600@wearefhci.com
SUMMARY:Life Group 2025
DESCRIPTION:Let’s dive deep into Matthew 6:33 with Pastor Yo! \nViews: 2
URL:https://wearefhci.com/event/life-group-2025-2/
LOCATION:Zoom
ATTACH;FMTTYPE=image/png:https://wearefhci.com/wp-content/uploads/2025/02/4107788847508785683.png
END:VEVENT
BEGIN:VEVENT
DTSTART;TZID=America/Chicago:20250209T170000
DTEND;TZID=America/Chicago:20250209T180000
DTSTAMP:20260421T162951
CREATED:20250201T162908Z
LAST-MODIFIED:20250201T162908Z
UID:7558-1739120400-1739124000@wearefhci.com
SUMMARY:FHCI Massachusetts Sunday Service
DESCRIPTION:Join Pastors Carlos & Maria Almendarez for FHCI Massachusetts Sunday Worship Service! \nViews: 2
URL:https://wearefhci.com/event/fhci-massachusetts-sunday-service-6/
LOCATION:Facebook Live
CATEGORIES:Sunday Service
ATTACH;FMTTYPE=image/jpeg:https://wearefhci.com/wp-content/uploads/2025/01/IMG_6923.jpg
ORGANIZER;CN="Without Walls Ministry":MAILTO:withoutwallsministry2024@gmail.com
END:VEVENT
BEGIN:VEVENT
DTSTART;TZID=America/Chicago:20250209T103000
DTEND;TZID=America/Chicago:20250209T120000
DTSTAMP:20260421T162951
CREATED:20250201T162828Z
LAST-MODIFIED:20250201T162828Z
UID:7556-1739097000-1739102400@wearefhci.com
SUMMARY:FHCI Worship & Word Service
DESCRIPTION:Come join us! \nViews: 2
URL:https://wearefhci.com/event/fhci-worship-word-service-14/
LOCATION:Fathers Heart Church International\, 5824 W. Diversey\, Chicago\, IL\, 60639\, United States
CATEGORIES:Sunday Service
ATTACH;FMTTYPE=image/jpeg:https://wearefhci.com/wp-content/uploads/2024/02/JPEG-e1707760486717.jpg
END:VEVENT
BEGIN:VEVENT
DTSTART;TZID=America/Chicago:20250206T200000
DTEND;TZID=America/Chicago:20250206T210000
DTSTAMP:20260421T162951
CREATED:20250201T162348Z
LAST-MODIFIED:20250205T225013Z
UID:7547-1738872000-1738875600@wearefhci.com
SUMMARY:Bible Journal Study
DESCRIPTION:Join Pastor Maria as she leads us through the book of Psalms! \nViews: 2
URL:https://wearefhci.com/event/bible-journal-study-3/
LOCATION:Zoom
ATTACH;FMTTYPE=image/jpeg:https://wearefhci.com/wp-content/uploads/2025/02/fcf359fb-5d48-4161-b018-805bfe18cfbb.jpg
ORGANIZER;CN="Without Walls Ministry":MAILTO:withoutwallsministry2024@gmail.com
END:VEVENT
BEGIN:VEVENT
DTSTART;TZID=America/Chicago:20250205T193000
DTEND;TZID=America/Chicago:20250205T203000
DTSTAMP:20260421T162951
CREATED:20250201T162532Z
LAST-MODIFIED:20250201T162532Z
UID:7552-1738783800-1738787400@wearefhci.com
SUMMARY:Choque Cultural
DESCRIPTION:Estudio biblico con el Apostol David Cruz \nViews: 2
URL:https://wearefhci.com/event/choque-cultural-11/
LOCATION:Zoom
CATEGORIES:Choque Cultural
ATTACH;FMTTYPE=image/jpeg:https://wearefhci.com/wp-content/uploads/2025/01/3321681274315020793.jpg
END:VEVENT
BEGIN:VEVENT
DTSTART;TZID=America/Chicago:20250205T180000
DTEND;TZID=America/Chicago:20250205T190000
DTSTAMP:20260421T162951
CREATED:20250201T162742Z
LAST-MODIFIED:20250201T162742Z
UID:7554-1738778400-1738782000@wearefhci.com
SUMMARY:Cultivating a Unique Bond
DESCRIPTION:Join Pastors Carlos & Maria Almendarez as they explore the Names of God. \nViews: 2
URL:https://wearefhci.com/event/cultivating-a-unique-bond/
LOCATION:Zoom
CATEGORIES:Culture Clash
ATTACH;FMTTYPE=image/jpeg:https://wearefhci.com/wp-content/uploads/2024/04/Carlos-Maria-2.jpeg
END:VEVENT
BEGIN:VEVENT
DTSTART;TZID=America/Chicago:20250202T170000
DTEND;TZID=America/Chicago:20250202T180000
DTSTAMP:20260421T162951
CREATED:20250201T162253Z
LAST-MODIFIED:20250201T162253Z
UID:7545-1738515600-1738519200@wearefhci.com
SUMMARY:FHCI Massachusetts Sunday Service
DESCRIPTION:Join Pastors Carlos & Maria Almendarez for FHCI Massachusetts Sunday Worship Service! \nViews: 2
URL:https://wearefhci.com/event/fhci-massachusetts-sunday-service-5/
LOCATION:Facebook Live
CATEGORIES:Sunday Service
ATTACH;FMTTYPE=image/jpeg:https://wearefhci.com/wp-content/uploads/2025/01/IMG_6923.jpg
ORGANIZER;CN="Without Walls Ministry":MAILTO:withoutwallsministry2024@gmail.com
END:VEVENT
BEGIN:VEVENT
DTSTART;TZID=America/Chicago:20250202T103000
DTEND;TZID=America/Chicago:20250202T120000
DTSTAMP:20260421T162951
CREATED:20250201T162210Z
LAST-MODIFIED:20250201T162210Z
UID:7543-1738492200-1738497600@wearefhci.com
SUMMARY:FHCI Worship & Word Service
DESCRIPTION:Come join us! \nViews: 2
URL:https://wearefhci.com/event/fhci-worship-word-service-13/
LOCATION:Fathers Heart Church International\, 5824 W. Diversey\, Chicago\, IL\, 60639\, United States
CATEGORIES:Sunday Service
ATTACH;FMTTYPE=image/jpeg:https://wearefhci.com/wp-content/uploads/2024/02/JPEG-e1707760486717.jpg
END:VEVENT
BEGIN:VEVENT
DTSTART;TZID=America/Chicago:20250129T193000
DTEND;TZID=America/Chicago:20250129T203000
DTSTAMP:20260421T162951
CREATED:20250112T162846Z
LAST-MODIFIED:20250112T162846Z
UID:7514-1738179000-1738182600@wearefhci.com
SUMMARY:Choque Cultural
DESCRIPTION:Estudio biblico con el Apostol David Cruz \nViews: 2
URL:https://wearefhci.com/event/choque-cultural-10/
LOCATION:Zoom
CATEGORIES:Choque Cultural
ATTACH;FMTTYPE=image/jpeg:https://wearefhci.com/wp-content/uploads/2025/01/3321681274315020793.jpg
END:VEVENT
BEGIN:VEVENT
DTSTART;TZID=America/Chicago:20250127T190000
DTEND;TZID=America/Chicago:20250127T200000
DTSTAMP:20260421T162951
CREATED:20250109T025851Z
LAST-MODIFIED:20250109T025851Z
UID:7493-1738004400-1738008000@wearefhci.com
SUMMARY:Life Group 2025
DESCRIPTION:Let’s dive deep into Matthew 6:33 with Pastor Yo! \nViews: 2
URL:https://wearefhci.com/event/life-group-2025-3/
LOCATION:Zoom
ATTACH;FMTTYPE=image/png:https://wearefhci.com/wp-content/uploads/2025/01/3312796579880795506.png
END:VEVENT
BEGIN:VEVENT
DTSTART;TZID=America/Chicago:20250126T170000
DTEND;TZID=America/Chicago:20250126T180000
DTSTAMP:20260421T162951
CREATED:20250104T164140Z
LAST-MODIFIED:20250109T025517Z
UID:7464-1737910800-1737914400@wearefhci.com
SUMMARY:FHCI Massachusetts Sunday Service
DESCRIPTION:Join Pastors Carlos & Maria Almendarez for FHCI Massachusetts Sunday Worship Service! \nViews: 2
URL:https://wearefhci.com/event/fhci-massachusetts-sunday-service-4/
LOCATION:Facebook Live
CATEGORIES:Sunday Service
ATTACH;FMTTYPE=image/jpeg:https://wearefhci.com/wp-content/uploads/2025/01/IMG_6923.jpg
ORGANIZER;CN="Without Walls Ministry":MAILTO:withoutwallsministry2024@gmail.com
END:VEVENT
BEGIN:VEVENT
DTSTART;TZID=America/Chicago:20250126T103000
DTEND;TZID=America/Chicago:20250126T120000
DTSTAMP:20260421T162951
CREATED:20250104T164411Z
LAST-MODIFIED:20250104T164411Z
UID:7472-1737887400-1737892800@wearefhci.com
SUMMARY:FHCI Worship & Word Service
DESCRIPTION:Come join us! \nViews: 2
URL:https://wearefhci.com/event/fhci-worship-word-service-12/
LOCATION:Fathers Heart Church International\, 5824 W. Diversey\, Chicago\, IL\, 60639\, United States
CATEGORIES:Sunday Service
ATTACH;FMTTYPE=image/jpeg:https://wearefhci.com/wp-content/uploads/2024/02/JPEG-e1707760486717.jpg
END:VEVENT
BEGIN:VEVENT
DTSTART;TZID=America/Chicago:20250123T200000
DTEND;TZID=America/Chicago:20250123T210000
DTSTAMP:20260421T162951
CREATED:20250118T191958Z
LAST-MODIFIED:20250118T191958Z
UID:7528-1737662400-1737666000@wearefhci.com
SUMMARY:Bible Journal Study
DESCRIPTION:Join Pastor Maria as she leads us through the book of Psalms! \nViews: 2
URL:https://wearefhci.com/event/bible-journal-study-2/
LOCATION:Zoom
ATTACH;FMTTYPE=image/jpeg:https://wearefhci.com/wp-content/uploads/2025/01/IMG_6782.jpg
ORGANIZER;CN="Without Walls Ministry":MAILTO:withoutwallsministry2024@gmail.com
END:VEVENT
END:VCALENDAR