BEGIN:VCALENDAR
VERSION:2.0
PRODID:-//Father&#039;s Heart Church International - ECPv6.15.20//NONSGML v1.0//EN
CALSCALE:GREGORIAN
METHOD:PUBLISH
X-WR-CALNAME:Father&#039;s Heart Church International
X-ORIGINAL-URL:https://wearefhci.com
X-WR-CALDESC:Events for Father&#039;s Heart Church International
REFRESH-INTERVAL;VALUE=DURATION:PT1H
X-Robots-Tag:noindex
X-PUBLISHED-TTL:PT1H
BEGIN:VTIMEZONE
TZID:America/Chicago
BEGIN:DAYLIGHT
TZOFFSETFROM:-0600
TZOFFSETTO:-0500
TZNAME:CDT
DTSTART:20230312T080000
END:DAYLIGHT
BEGIN:STANDARD
TZOFFSETFROM:-0500
TZOFFSETTO:-0600
TZNAME:CST
DTSTART:20231105T070000
END:STANDARD
BEGIN:DAYLIGHT
TZOFFSETFROM:-0600
TZOFFSETTO:-0500
TZNAME:CDT
DTSTART:20240310T080000
END:DAYLIGHT
BEGIN:STANDARD
TZOFFSETFROM:-0500
TZOFFSETTO:-0600
TZNAME:CST
DTSTART:20241103T070000
END:STANDARD
BEGIN:DAYLIGHT
TZOFFSETFROM:-0600
TZOFFSETTO:-0500
TZNAME:CDT
DTSTART:20250309T080000
END:DAYLIGHT
BEGIN:STANDARD
TZOFFSETFROM:-0500
TZOFFSETTO:-0600
TZNAME:CST
DTSTART:20251102T070000
END:STANDARD
BEGIN:DAYLIGHT
TZOFFSETFROM:-0600
TZOFFSETTO:-0500
TZNAME:CDT
DTSTART:20260308T080000
END:DAYLIGHT
BEGIN:STANDARD
TZOFFSETFROM:-0500
TZOFFSETTO:-0600
TZNAME:CST
DTSTART:20261101T070000
END:STANDARD
END:VTIMEZONE
BEGIN:VEVENT
DTSTART;TZID=America/Chicago:20250112T170000
DTEND;TZID=America/Chicago:20250112T180000
DTSTAMP:20260421T204315
CREATED:20250104T163921Z
LAST-MODIFIED:20250109T025425Z
UID:7460-1736701200-1736704800@wearefhci.com
SUMMARY:FHCI Massachusetts Sunday Service
DESCRIPTION:Join Pastors Carlos & Maria Almendarez for FHCI Massachusetts Sunday Worship Service! \nViews: 1
URL:https://wearefhci.com/event/fhci-massachusetts-sunday-service-2/
LOCATION:Facebook Live
CATEGORIES:Sunday Service
ATTACH;FMTTYPE=image/jpeg:https://wearefhci.com/wp-content/uploads/2025/01/IMG_6923.jpg
ORGANIZER;CN="Without Walls Ministry":MAILTO:withoutwallsministry2024@gmail.com
END:VEVENT
BEGIN:VEVENT
DTSTART;TZID=America/Chicago:20250112T103000
DTEND;TZID=America/Chicago:20250112T120000
DTSTAMP:20260421T204315
CREATED:20250104T164309Z
LAST-MODIFIED:20250104T164309Z
UID:7468-1736677800-1736683200@wearefhci.com
SUMMARY:FHCI Worship & Word Service
DESCRIPTION:Come join us! \nViews: 1
URL:https://wearefhci.com/event/fhci-worship-word-service-10/
LOCATION:Fathers Heart Church International\, 5824 W. Diversey\, Chicago\, IL\, 60639\, United States
CATEGORIES:Sunday Service
ATTACH;FMTTYPE=image/jpeg:https://wearefhci.com/wp-content/uploads/2024/02/JPEG-e1707760486717.jpg
END:VEVENT
BEGIN:VEVENT
DTSTART;TZID=America/Chicago:20250105T170000
DTEND;TZID=America/Chicago:20250105T190000
DTSTAMP:20260421T204315
CREATED:20250104T163401Z
LAST-MODIFIED:20250105T170424Z
UID:7456-1736096400-1736103600@wearefhci.com
SUMMARY:FHCI Massachusetts Sunday Service
DESCRIPTION:Join Pastors Carlos & Maria Almendarez for FHCI Massachusetts Sunday Worship Service! \nViews: 1
URL:https://wearefhci.com/event/fhci-massachusetts-sunday-service/
LOCATION:Facebook Live
CATEGORIES:Sunday Service
ATTACH;FMTTYPE=image/jpeg:https://wearefhci.com/wp-content/uploads/2025/01/IMG_6923.jpg
ORGANIZER;CN="Without Walls Ministry":MAILTO:withoutwallsministry2024@gmail.com
END:VEVENT
BEGIN:VEVENT
DTSTART;TZID=America/Chicago:20250105T103000
DTEND;TZID=America/Chicago:20250105T120000
DTSTAMP:20260421T204315
CREATED:20250104T164233Z
LAST-MODIFIED:20250104T164233Z
UID:7466-1736073000-1736078400@wearefhci.com
SUMMARY:FHCI Worship & Word Service
DESCRIPTION:Come join us! \nViews: 1
URL:https://wearefhci.com/event/fhci-worship-word-service-9/
LOCATION:Fathers Heart Church International\, 5824 W. Diversey\, Chicago\, IL\, 60639\, United States
CATEGORIES:Sunday Service
ATTACH;FMTTYPE=image/jpeg:https://wearefhci.com/wp-content/uploads/2024/02/JPEG-e1707760486717.jpg
END:VEVENT
BEGIN:VEVENT
DTSTART;TZID=America/Chicago:20240630T103000
DTEND;TZID=America/Chicago:20240630T120000
DTSTAMP:20260421T204315
CREATED:20240605T185056Z
LAST-MODIFIED:20240605T185056Z
UID:7236-1719743400-1719748800@wearefhci.com
SUMMARY:FHCI Worship & Word Service
DESCRIPTION:Come join us! \nViews: 1
URL:https://wearefhci.com/event/fhci-worship-word-service-8/
LOCATION:Fathers Heart Church International\, 5824 W. Diversey\, Chicago\, IL\, 60639\, United States
CATEGORIES:Sunday Service
ATTACH;FMTTYPE=image/jpeg:https://wearefhci.com/wp-content/uploads/2024/02/JPEG-e1707760486717.jpg
END:VEVENT
BEGIN:VEVENT
DTSTART;TZID=America/Chicago:20240626T190000
DTEND;TZID=America/Chicago:20240626T200000
DTSTAMP:20260421T204315
CREATED:20240605T184332Z
LAST-MODIFIED:20240605T184332Z
UID:7220-1719428400-1719432000@wearefhci.com
SUMMARY:Choque Cultural.  6/26/24
DESCRIPTION:Estudio biblico con el Apostol David Cruz \nViews: 1
URL:https://wearefhci.com/event/choque-cultural-6-26-24/
LOCATION:Zoom
CATEGORIES:Choque Cultural
ATTACH;FMTTYPE=image/jpeg:https://wearefhci.com/wp-content/uploads/2024/02/66648489_10156663913458425_7341455721529081856_n.jpg
END:VEVENT
BEGIN:VEVENT
DTSTART;TZID=America/Chicago:20240626T180000
DTEND;TZID=America/Chicago:20240626T190000
DTSTAMP:20260421T204315
CREATED:20240605T184715Z
LAST-MODIFIED:20240605T184715Z
UID:7228-1719424800-1719428400@wearefhci.com
SUMMARY:Cultivating Discipleship.  6/26/24
DESCRIPTION:Culture Clash with Carlos & Maria Almendarez \nViews: 1
URL:https://wearefhci.com/event/cultivating-discipleship-6-26-24/
LOCATION:Zoom
CATEGORIES:Culture Clash
ATTACH;FMTTYPE=image/jpeg:https://wearefhci.com/wp-content/uploads/2024/04/Carlos-Maria-2.jpeg
END:VEVENT
BEGIN:VEVENT
DTSTART;TZID=America/Chicago:20240623T103000
DTEND;TZID=America/Chicago:20240623T120000
DTSTAMP:20260421T204315
CREATED:20240605T185020Z
LAST-MODIFIED:20240605T185020Z
UID:7234-1719138600-1719144000@wearefhci.com
SUMMARY:FHCI Worship & Word Service
DESCRIPTION:Come join us! \nViews: 1
URL:https://wearefhci.com/event/fhci-worship-word-service-7/
LOCATION:Fathers Heart Church International\, 5824 W. Diversey\, Chicago\, IL\, 60639\, United States
CATEGORIES:Sunday Service
ATTACH;FMTTYPE=image/jpeg:https://wearefhci.com/wp-content/uploads/2024/02/JPEG-e1707760486717.jpg
END:VEVENT
BEGIN:VEVENT
DTSTART;TZID=America/Chicago:20240619T190000
DTEND;TZID=America/Chicago:20240619T200000
DTSTAMP:20260421T204315
CREATED:20240605T184250Z
LAST-MODIFIED:20240605T184250Z
UID:7218-1718823600-1718827200@wearefhci.com
SUMMARY:Choque Cultural.  6/19/24
DESCRIPTION:Estudio biblico con el Apostol David Cruz \nViews: 1
URL:https://wearefhci.com/event/choque-cultural-6-19-24/
LOCATION:Zoom
CATEGORIES:Choque Cultural
ATTACH;FMTTYPE=image/jpeg:https://wearefhci.com/wp-content/uploads/2024/02/66648489_10156663913458425_7341455721529081856_n.jpg
END:VEVENT
BEGIN:VEVENT
DTSTART;TZID=America/Chicago:20240619T180000
DTEND;TZID=America/Chicago:20240619T190000
DTSTAMP:20260421T204315
CREATED:20240605T184639Z
LAST-MODIFIED:20240605T184639Z
UID:7226-1718820000-1718823600@wearefhci.com
SUMMARY:Cultivating Discipleship.  6/19/24
DESCRIPTION:Culture Clash with Carlos & Maria Almendarez \nViews: 1
URL:https://wearefhci.com/event/cultivating-discipleship-6-19-24/
LOCATION:Zoom
CATEGORIES:Culture Clash
ATTACH;FMTTYPE=image/jpeg:https://wearefhci.com/wp-content/uploads/2024/04/Carlos-Maria-2.jpeg
END:VEVENT
BEGIN:VEVENT
DTSTART;TZID=America/Chicago:20240616T103000
DTEND;TZID=America/Chicago:20240616T120000
DTSTAMP:20260421T204315
CREATED:20240605T184936Z
LAST-MODIFIED:20240605T184936Z
UID:7232-1718533800-1718539200@wearefhci.com
SUMMARY:FHCI Worship & Word Service
DESCRIPTION:Come join us! \nViews: 1
URL:https://wearefhci.com/event/fhci-worship-word-service-6/
LOCATION:Fathers Heart Church International\, 5824 W. Diversey\, Chicago\, IL\, 60639\, United States
CATEGORIES:Sunday Service
ATTACH;FMTTYPE=image/jpeg:https://wearefhci.com/wp-content/uploads/2024/02/JPEG-e1707760486717.jpg
END:VEVENT
BEGIN:VEVENT
DTSTART;TZID=America/Chicago:20240612T190000
DTEND;TZID=America/Chicago:20240612T200000
DTSTAMP:20260421T204315
CREATED:20240605T184153Z
LAST-MODIFIED:20240605T184153Z
UID:7216-1718218800-1718222400@wearefhci.com
SUMMARY:Choque Cultural.  6/12/24
DESCRIPTION:Estudio biblico con el Apostol David Cruz \nViews: 1
URL:https://wearefhci.com/event/choque-cultural-6-12-24/
LOCATION:Zoom
CATEGORIES:Choque Cultural
ATTACH;FMTTYPE=image/jpeg:https://wearefhci.com/wp-content/uploads/2024/02/66648489_10156663913458425_7341455721529081856_n.jpg
END:VEVENT
BEGIN:VEVENT
DTSTART;TZID=America/Chicago:20240612T180000
DTEND;TZID=America/Chicago:20240612T190000
DTSTAMP:20260421T204315
CREATED:20240605T184556Z
LAST-MODIFIED:20240605T184556Z
UID:7224-1718215200-1718218800@wearefhci.com
SUMMARY:Cultivating Discipleship.  6/12/24
DESCRIPTION:Culture Clash with Carlos & Maria Almendarez \nViews: 1
URL:https://wearefhci.com/event/cultivating-discipleship-6-12-24/
LOCATION:Zoom
CATEGORIES:Culture Clash
ATTACH;FMTTYPE=image/jpeg:https://wearefhci.com/wp-content/uploads/2024/04/Carlos-Maria-2.jpeg
END:VEVENT
BEGIN:VEVENT
DTSTART;TZID=America/Chicago:20240609T103000
DTEND;TZID=America/Chicago:20240609T120000
DTSTAMP:20260421T204315
CREATED:20240605T184855Z
LAST-MODIFIED:20240605T184855Z
UID:7230-1717929000-1717934400@wearefhci.com
SUMMARY:FHCI Worship & Word Service
DESCRIPTION:Come join us! \nViews: 1
URL:https://wearefhci.com/event/fhci-worship-word-service-5/
LOCATION:Fathers Heart Church International\, 5824 W. Diversey\, Chicago\, IL\, 60639\, United States
CATEGORIES:Sunday Service
ATTACH;FMTTYPE=image/jpeg:https://wearefhci.com/wp-content/uploads/2024/02/JPEG-e1707760486717.jpg
END:VEVENT
BEGIN:VEVENT
DTSTART;TZID=America/Chicago:20240605T190000
DTEND;TZID=America/Chicago:20240605T200000
DTSTAMP:20260421T204315
CREATED:20240605T184026Z
LAST-MODIFIED:20240605T184026Z
UID:7214-1717614000-1717617600@wearefhci.com
SUMMARY:Choque Cultural.  6/5/24
DESCRIPTION:Estudio biblico con el Apostol David Cruz \nViews: 1
URL:https://wearefhci.com/event/choque-cultural-6-5-24/
LOCATION:Zoom
CATEGORIES:Choque Cultural
ATTACH;FMTTYPE=image/jpeg:https://wearefhci.com/wp-content/uploads/2024/02/66648489_10156663913458425_7341455721529081856_n.jpg
END:VEVENT
BEGIN:VEVENT
DTSTART;TZID=America/Chicago:20240605T180000
DTEND;TZID=America/Chicago:20240605T190000
DTSTAMP:20260421T204315
CREATED:20240605T184504Z
LAST-MODIFIED:20240605T184504Z
UID:7222-1717610400-1717614000@wearefhci.com
SUMMARY:Cultivating Discipleship.  6/5/24
DESCRIPTION:Culture Clash with Carlos & Maria Almendarez \nViews: 1
URL:https://wearefhci.com/event/cultivating-discipleship-6-5-24/
LOCATION:Zoom
CATEGORIES:Culture Clash
ATTACH;FMTTYPE=image/jpeg:https://wearefhci.com/wp-content/uploads/2024/04/Carlos-Maria-2.jpeg
END:VEVENT
BEGIN:VEVENT
DTSTART;TZID=America/Chicago:20240601T170000
DTEND;TZID=America/Chicago:20240601T220000
DTSTAMP:20260421T204315
CREATED:20240301T230421Z
LAST-MODIFIED:20240302T072021Z
UID:6673-1717261200-1717279200@wearefhci.com
SUMMARY:W2W Woman's Gathering
DESCRIPTION:Woman walk in your destiny! \nViews: 1
URL:https://wearefhci.com/event/w2w-womans-gathering/
LOCATION:Fathers Heart Church International\, 5824 W. Diversey\, Chicago\, IL\, 60639\, United States
ATTACH;FMTTYPE=image/jpeg:https://wearefhci.com/wp-content/uploads/2024/03/JUNEFIRST.jpg
END:VEVENT
BEGIN:VEVENT
DTSTART;TZID=America/Chicago:20240529T190000
DTEND;TZID=America/Chicago:20240529T200000
DTSTAMP:20260421T204315
CREATED:20240507T225856Z
LAST-MODIFIED:20240507T225856Z
UID:7191-1717009200-1717012800@wearefhci.com
SUMMARY:Choque Cultural.  5/29/24
DESCRIPTION:Estudio biblico con el Apostol David Cruz \nViews: 1
URL:https://wearefhci.com/event/choque-cultural-5-29-24/
LOCATION:Zoom
ATTACH;FMTTYPE=image/jpeg:https://wearefhci.com/wp-content/uploads/2024/02/66648489_10156663913458425_7341455721529081856_n.jpg
END:VEVENT
BEGIN:VEVENT
DTSTART;TZID=America/Chicago:20240529T180000
DTEND;TZID=America/Chicago:20240529T190000
DTSTAMP:20260421T204315
CREATED:20240507T225534Z
LAST-MODIFIED:20240507T225534Z
UID:7185-1717005600-1717009200@wearefhci.com
SUMMARY:Cultivating Discipleship.  5/29/24
DESCRIPTION:Culture Clash with Carlos & Maria Almendarez \nViews: 1
URL:https://wearefhci.com/event/cultivating-discipleship-5-29-24/
LOCATION:Zoom
CATEGORIES:Culture Clash
ATTACH;FMTTYPE=image/jpeg:https://wearefhci.com/wp-content/uploads/2024/04/Carlos-Maria-2.jpeg
END:VEVENT
BEGIN:VEVENT
DTSTART;TZID=America/Chicago:20240527T190000
DTEND;TZID=America/Chicago:20240527T200000
DTSTAMP:20260421T204315
CREATED:20240507T230312Z
LAST-MODIFIED:20240507T230312Z
UID:7197-1716836400-1716840000@wearefhci.com
SUMMARY:Life Group.  5/27/24
DESCRIPTION:We’re in this together! \nViews: 1
URL:https://wearefhci.com/event/life-group-5-27-24/
LOCATION:Zoom
CATEGORIES:Life Group
ATTACH;FMTTYPE=image/jpeg:https://wearefhci.com/wp-content/uploads/2024/02/Pastor-Yo-1.jpeg
END:VEVENT
BEGIN:VEVENT
DTSTART;TZID=America/Chicago:20240526T103000
DTEND;TZID=America/Chicago:20240526T120000
DTSTAMP:20260421T204315
CREATED:20240507T225052Z
LAST-MODIFIED:20240507T225052Z
UID:7179-1716719400-1716724800@wearefhci.com
SUMMARY:FHCI Worship & Word Service
DESCRIPTION:Come join us! \nViews: 1
URL:https://wearefhci.com/event/fhci-worship-word-service-4/
LOCATION:Fathers Heart Church International\, 5824 W. Diversey\, Chicago\, IL\, 60639\, United States
CATEGORIES:Sunday Service
ATTACH;FMTTYPE=image/jpeg:https://wearefhci.com/wp-content/uploads/2024/02/JPEG-e1707760486717.jpg
END:VEVENT
BEGIN:VEVENT
DTSTART;TZID=America/Chicago:20240522T190000
DTEND;TZID=America/Chicago:20240522T200000
DTSTAMP:20260421T204315
CREATED:20240507T225810Z
LAST-MODIFIED:20240507T225810Z
UID:7189-1716404400-1716408000@wearefhci.com
SUMMARY:Choque Cultural.  5/22/24
DESCRIPTION:Estudio biblico con el Apostol David Cruz \nViews: 1
URL:https://wearefhci.com/event/choque-cultural-5-22-24/
LOCATION:Zoom
ATTACH;FMTTYPE=image/jpeg:https://wearefhci.com/wp-content/uploads/2024/02/66648489_10156663913458425_7341455721529081856_n.jpg
END:VEVENT
BEGIN:VEVENT
DTSTART;TZID=America/Chicago:20240522T180000
DTEND;TZID=America/Chicago:20240522T190000
DTSTAMP:20260421T204315
CREATED:20240507T225448Z
LAST-MODIFIED:20240507T225448Z
UID:7183-1716400800-1716404400@wearefhci.com
SUMMARY:Cultivating Discipleship.  5/22/24
DESCRIPTION:Culture Clash with Carlos & Maria Almendarez \nViews: 1
URL:https://wearefhci.com/event/cultivating-discipleship-5-22-24/
LOCATION:Zoom
CATEGORIES:Culture Clash
ATTACH;FMTTYPE=image/jpeg:https://wearefhci.com/wp-content/uploads/2024/04/Carlos-Maria-2.jpeg
END:VEVENT
BEGIN:VEVENT
DTSTART;TZID=America/Chicago:20240520T190000
DTEND;TZID=America/Chicago:20240520T200000
DTSTAMP:20260421T204315
CREATED:20240507T230220Z
LAST-MODIFIED:20240507T230220Z
UID:7195-1716231600-1716235200@wearefhci.com
SUMMARY:Life Group.  5/20/24
DESCRIPTION:We’re in this together! \nViews: 1
URL:https://wearefhci.com/event/life-group-5-20-24/
LOCATION:Zoom
CATEGORIES:Life Group
ATTACH;FMTTYPE=image/jpeg:https://wearefhci.com/wp-content/uploads/2024/02/Pastor-Yo-1.jpeg
END:VEVENT
BEGIN:VEVENT
DTSTART;TZID=America/Chicago:20240519T103000
DTEND;TZID=America/Chicago:20240519T120000
DTSTAMP:20260421T204315
CREATED:20240507T224900Z
LAST-MODIFIED:20240507T224900Z
UID:7177-1716114600-1716120000@wearefhci.com
SUMMARY:FHCI Worship & Word Service
DESCRIPTION:Come join us! \nViews: 1
URL:https://wearefhci.com/event/fhci-worship-word-service-3/
LOCATION:Fathers Heart Church International\, 5824 W. Diversey\, Chicago\, IL\, 60639\, United States
CATEGORIES:Sunday Service
ATTACH;FMTTYPE=image/jpeg:https://wearefhci.com/wp-content/uploads/2024/02/JPEG-e1707760486717.jpg
END:VEVENT
BEGIN:VEVENT
DTSTART;TZID=America/Chicago:20240515T190000
DTEND;TZID=America/Chicago:20240515T200000
DTSTAMP:20260421T204315
CREATED:20240507T225649Z
LAST-MODIFIED:20240507T225649Z
UID:7187-1715799600-1715803200@wearefhci.com
SUMMARY:Choque Cultural.  5/15/24
DESCRIPTION:Estudio biblico con el Apostol David Cruz \nViews: 1
URL:https://wearefhci.com/event/choque-cultural-5-15-24/
LOCATION:Zoom
ATTACH;FMTTYPE=image/jpeg:https://wearefhci.com/wp-content/uploads/2024/02/66648489_10156663913458425_7341455721529081856_n.jpg
END:VEVENT
BEGIN:VEVENT
DTSTART;TZID=America/Chicago:20240515T180000
DTEND;TZID=America/Chicago:20240515T190000
DTSTAMP:20260421T204315
CREATED:20240507T225351Z
LAST-MODIFIED:20240507T225351Z
UID:7181-1715796000-1715799600@wearefhci.com
SUMMARY:Cultivating Discipleship.  5/15/24
DESCRIPTION:Culture Clash with Carlos & Maria Almendarez \nViews: 1
URL:https://wearefhci.com/event/cultivating-discipleship-5-15-24/
LOCATION:Zoom
CATEGORIES:Culture Clash
ATTACH;FMTTYPE=image/jpeg:https://wearefhci.com/wp-content/uploads/2024/04/Carlos-Maria-2.jpeg
END:VEVENT
BEGIN:VEVENT
DTSTART;TZID=America/Chicago:20240513T190000
DTEND;TZID=America/Chicago:20240513T200000
DTSTAMP:20260421T204315
CREATED:20240507T230132Z
LAST-MODIFIED:20240507T230132Z
UID:7193-1715626800-1715630400@wearefhci.com
SUMMARY:Life Group.  5/13/24
DESCRIPTION:We’re in this together! \nViews: 1
URL:https://wearefhci.com/event/life-group-5-13-24/
LOCATION:Zoom
CATEGORIES:Life Group
ATTACH;FMTTYPE=image/jpeg:https://wearefhci.com/wp-content/uploads/2024/02/Pastor-Yo-1.jpeg
END:VEVENT
BEGIN:VEVENT
DTSTART;TZID=America/Chicago:20240512T103000
DTEND;TZID=America/Chicago:20240512T120000
DTSTAMP:20260421T204315
CREATED:20240507T224740Z
LAST-MODIFIED:20240507T224740Z
UID:7175-1715509800-1715515200@wearefhci.com
SUMMARY:FHCI Worship & Word Service
DESCRIPTION:Come join us! \nViews: 1
URL:https://wearefhci.com/event/fhci-worship-word-service-2/
LOCATION:Fathers Heart Church International\, 5824 W. Diversey\, Chicago\, IL\, 60639\, United States
CATEGORIES:Sunday Service
ATTACH;FMTTYPE=image/jpeg:https://wearefhci.com/wp-content/uploads/2024/02/JPEG-e1707760486717.jpg
END:VEVENT
BEGIN:VEVENT
DTSTART;TZID=America/Chicago:20240508T190000
DTEND;TZID=America/Chicago:20240508T200000
DTSTAMP:20260421T204315
CREATED:20240501T171909Z
LAST-MODIFIED:20240501T171940Z
UID:7153-1715194800-1715198400@wearefhci.com
SUMMARY:Choque Cultural.  5/8/24
DESCRIPTION:Estudio biblico con el Apostol David Cruz \nViews: 1
URL:https://wearefhci.com/event/choque-cultural-5-1-24/
LOCATION:Zoom
ATTACH;FMTTYPE=image/jpeg:https://wearefhci.com/wp-content/uploads/2024/02/66648489_10156663913458425_7341455721529081856_n.jpg
END:VEVENT
END:VCALENDAR