BEGIN:VCALENDAR
VERSION:2.0
PRODID:-//Father&#039;s Heart Church International - ECPv6.15.20//NONSGML v1.0//EN
CALSCALE:GREGORIAN
METHOD:PUBLISH
X-ORIGINAL-URL:https://wearefhci.com
X-WR-CALDESC:Events for Father&#039;s Heart Church International
REFRESH-INTERVAL;VALUE=DURATION:PT1H
X-Robots-Tag:noindex
X-PUBLISHED-TTL:PT1H
BEGIN:VTIMEZONE
TZID:America/Chicago
BEGIN:DAYLIGHT
TZOFFSETFROM:-0600
TZOFFSETTO:-0500
TZNAME:CDT
DTSTART:20230312T080000
END:DAYLIGHT
BEGIN:STANDARD
TZOFFSETFROM:-0500
TZOFFSETTO:-0600
TZNAME:CST
DTSTART:20231105T070000
END:STANDARD
BEGIN:DAYLIGHT
TZOFFSETFROM:-0600
TZOFFSETTO:-0500
TZNAME:CDT
DTSTART:20240310T080000
END:DAYLIGHT
BEGIN:STANDARD
TZOFFSETFROM:-0500
TZOFFSETTO:-0600
TZNAME:CST
DTSTART:20241103T070000
END:STANDARD
BEGIN:DAYLIGHT
TZOFFSETFROM:-0600
TZOFFSETTO:-0500
TZNAME:CDT
DTSTART:20250309T080000
END:DAYLIGHT
BEGIN:STANDARD
TZOFFSETFROM:-0500
TZOFFSETTO:-0600
TZNAME:CST
DTSTART:20251102T070000
END:STANDARD
END:VTIMEZONE
BEGIN:VEVENT
DTSTART;TZID=America/Chicago:20240403T190000
DTEND;TZID=America/Chicago:20240403T200000
DTSTAMP:20260422T020104
CREATED:20240331T040233Z
LAST-MODIFIED:20240331T040233Z
UID:7045-1712170800-1712174400@wearefhci.com
SUMMARY:Choque Cultural
DESCRIPTION:Estudio biblico con el Apostol David Cruz \nViews: 2
URL:https://wearefhci.com/event/choque-cultural-4/
CATEGORIES:Choque Cultural
ATTACH;FMTTYPE=image/jpeg:https://wearefhci.com/wp-content/uploads/2024/02/66648489_10156663913458425_7341455721529081856_n.jpg
END:VEVENT
BEGIN:VEVENT
DTSTART;TZID=America/Chicago:20240403T180000
DTEND;TZID=America/Chicago:20240403T190000
DTSTAMP:20260422T020104
CREATED:20240331T035140Z
LAST-MODIFIED:20240331T035140Z
UID:7037-1712167200-1712170800@wearefhci.com
SUMMARY:Cultivating Resilience
DESCRIPTION:Culture Clash with Carlos & Maria \nViews: 2
URL:https://wearefhci.com/event/cultivating-resilience/
ATTACH;FMTTYPE=image/jpeg:https://wearefhci.com/wp-content/uploads/2024/02/Carlos-Maria.jpg
END:VEVENT
BEGIN:VEVENT
DTSTART;TZID=America/Chicago:20240401T190000
DTEND;TZID=America/Chicago:20240401T200000
DTSTAMP:20260422T020104
CREATED:20240331T030348Z
LAST-MODIFIED:20240331T030835Z
UID:7027-1711998000-1712001600@wearefhci.com
SUMMARY:Life Group.
DESCRIPTION:We’re all in this together! \nViews: 2
URL:https://wearefhci.com/event/life-group-4/
CATEGORIES:Life Group
ATTACH;FMTTYPE=image/jpeg:https://wearefhci.com/wp-content/uploads/2024/02/Pastor-Yo-1.jpeg
END:VEVENT
BEGIN:VEVENT
DTSTART;TZID=America/Chicago:20240331T100000
DTEND;TZID=America/Chicago:20240331T120000
DTSTAMP:20260422T020104
CREATED:20240309T032817Z
LAST-MODIFIED:20240309T032909Z
UID:6799-1711879200-1711886400@wearefhci.com
SUMMARY:Sunday Service
DESCRIPTION:Worship & Word service \nViews: 2
URL:https://wearefhci.com/event/sunday-service/
LOCATION:Fathers Heart Church International\, 5824 W. Diversey\, Chicago\, IL\, 60639\, United States
ATTACH;FMTTYPE=image/png:https://wearefhci.com/wp-content/uploads/2024/02/BIG-TRANSPARENT-PNG.png
END:VEVENT
BEGIN:VEVENT
DTSTART;TZID=America/Chicago:20240327T190000
DTEND;TZID=America/Chicago:20240327T200000
DTSTAMP:20260422T020104
CREATED:20240301T224439Z
LAST-MODIFIED:20240309T033155Z
UID:6669-1711566000-1711569600@wearefhci.com
SUMMARY:Choque Cultural
DESCRIPTION:Viviendo una vida de creyente \nViews: 2
URL:https://wearefhci.com/event/choque-cultural-2/
LOCATION:Zoom
ATTACH;FMTTYPE=image/jpeg:https://wearefhci.com/wp-content/uploads/2024/02/66648489_10156663913458425_7341455721529081856_n.jpg
END:VEVENT
BEGIN:VEVENT
DTSTART;TZID=America/Chicago:20240327T180000
DTEND;TZID=America/Chicago:20240327T190000
DTSTAMP:20260422T020104
CREATED:20240309T032455Z
LAST-MODIFIED:20240309T032455Z
UID:6795-1711562400-1711566000@wearefhci.com
SUMMARY:Culture Clash
DESCRIPTION:Cultivating Resilience \nViews: 2
URL:https://wearefhci.com/event/culture-clash-3/
LOCATION:Zoom
CATEGORIES:Culture Clash
ATTACH;FMTTYPE=image/jpeg:https://wearefhci.com/wp-content/uploads/2024/02/Carlos-Maria.jpg
END:VEVENT
BEGIN:VEVENT
DTSTART;TZID=America/Chicago:20240325T190000
DTEND;TZID=America/Chicago:20240325T200000
DTSTAMP:20260422T020104
CREATED:20240301T223931Z
LAST-MODIFIED:20240309T031043Z
UID:6665-1711393200-1711396800@wearefhci.com
SUMMARY:Life Group
DESCRIPTION:We’re all in this together! \nViews: 2
URL:https://wearefhci.com/event/life-group-3/
LOCATION:Zoom
CATEGORIES:Life Group
ATTACH;FMTTYPE=image/jpeg:https://wearefhci.com/wp-content/uploads/2024/02/Pastor-Yo-1.jpeg
END:VEVENT
BEGIN:VEVENT
DTSTART;TZID=America/Chicago:20240324T100000
DTEND;TZID=America/Chicago:20240324T120000
DTSTAMP:20260422T020104
CREATED:20240309T033417Z
LAST-MODIFIED:20240309T033417Z
UID:6803-1711274400-1711281600@wearefhci.com
SUMMARY:Sunday Service
DESCRIPTION:Worship & Word service \nViews: 2
URL:https://wearefhci.com/event/sunday-service-4/
LOCATION:Fathers Heart Church International\, 5824 W. Diversey\, Chicago\, IL\, 60639\, United States
ATTACH;FMTTYPE=image/png:https://wearefhci.com/wp-content/uploads/2024/02/BIG-TRANSPARENT-PNG.png
END:VEVENT
BEGIN:VEVENT
DTSTART;TZID=America/Chicago:20240320T190000
DTEND;TZID=America/Chicago:20240320T200000
DTSTAMP:20260422T020104
CREATED:20240309T033603Z
LAST-MODIFIED:20240309T033603Z
UID:6805-1710961200-1710964800@wearefhci.com
SUMMARY:Choque Cultural
DESCRIPTION:Viviendo una vida de creyente \nViews: 2
URL:https://wearefhci.com/event/choque-cultural-3/
LOCATION:Zoom
ATTACH;FMTTYPE=image/jpeg:https://wearefhci.com/wp-content/uploads/2024/02/66648489_10156663913458425_7341455721529081856_n.jpg
END:VEVENT
BEGIN:VEVENT
DTSTART;TZID=America/Chicago:20240320T180000
DTEND;TZID=America/Chicago:20240320T190000
DTSTAMP:20260422T020104
CREATED:20240309T032257Z
LAST-MODIFIED:20240309T032257Z
UID:6793-1710957600-1710961200@wearefhci.com
SUMMARY:Culture Clash
DESCRIPTION:Cultivating Resilience \nViews: 2
URL:https://wearefhci.com/event/culture-clash-2/
LOCATION:Zoom
CATEGORIES:Culture Clash
ATTACH;FMTTYPE=image/jpeg:https://wearefhci.com/wp-content/uploads/2024/02/Carlos-Maria.jpg
END:VEVENT
BEGIN:VEVENT
DTSTART;TZID=America/Chicago:20240318T190000
DTEND;TZID=America/Chicago:20240318T200000
DTSTAMP:20260422T020104
CREATED:20240309T032056Z
LAST-MODIFIED:20240309T032056Z
UID:6789-1710788400-1710792000@wearefhci.com
SUMMARY:Life Group
DESCRIPTION:We’re all in this together! \nViews: 2
URL:https://wearefhci.com/event/life-group/
LOCATION:Zoom
CATEGORIES:Life Group
ATTACH;FMTTYPE=image/jpeg:https://wearefhci.com/wp-content/uploads/2024/02/Pastor-Yo-1.jpeg
END:VEVENT
BEGIN:VEVENT
DTSTART;TZID=America/Chicago:20240317T100000
DTEND;TZID=America/Chicago:20240317T120000
DTSTAMP:20260422T020104
CREATED:20240301T224645Z
LAST-MODIFIED:20240309T033251Z
UID:6671-1710669600-1710676800@wearefhci.com
SUMMARY:Sunday Service
DESCRIPTION:Worship & Word service \nViews: 2
URL:https://wearefhci.com/event/sunday-service-2/
LOCATION:Fathers Heart Church International\, 5824 W. Diversey\, Chicago\, IL\, 60639\, United States
ATTACH;FMTTYPE=image/png:https://wearefhci.com/wp-content/uploads/2024/02/BIG-TRANSPARENT-PNG.png
END:VEVENT
BEGIN:VEVENT
DTSTART;TZID=America/Chicago:20240313T190000
DTEND;TZID=America/Chicago:20240313T200000
DTSTAMP:20260422T020104
CREATED:20240309T032621Z
LAST-MODIFIED:20240309T032645Z
UID:6797-1710356400-1710360000@wearefhci.com
SUMMARY:Choque Cultural
DESCRIPTION:Viviendo una vida de creyente \nViews: 2
URL:https://wearefhci.com/event/choque-cultural/
LOCATION:Zoom
ATTACH;FMTTYPE=image/jpeg:https://wearefhci.com/wp-content/uploads/2024/02/66648489_10156663913458425_7341455721529081856_n.jpg
END:VEVENT
BEGIN:VEVENT
DTSTART;TZID=America/Chicago:20240313T180000
DTEND;TZID=America/Chicago:20240313T190000
DTSTAMP:20260422T020104
CREATED:20240301T224235Z
LAST-MODIFIED:20240309T032332Z
UID:6667-1710352800-1710356400@wearefhci.com
SUMMARY:Culture Clash
DESCRIPTION:Cultivating Resilience \nViews: 2
URL:https://wearefhci.com/event/culture-clash/
LOCATION:Zoom
CATEGORIES:Culture Clash
ATTACH;FMTTYPE=image/jpeg:https://wearefhci.com/wp-content/uploads/2024/02/Carlos-Maria.jpg
END:VEVENT
BEGIN:VEVENT
DTSTART;TZID=America/Chicago:20240311T190000
DTEND;TZID=America/Chicago:20240311T200000
DTSTAMP:20260422T020104
CREATED:20240309T032137Z
LAST-MODIFIED:20240309T032137Z
UID:6791-1710183600-1710187200@wearefhci.com
SUMMARY:Life Group
DESCRIPTION:We’re all in this together! \nViews: 2
URL:https://wearefhci.com/event/life-group-2/
LOCATION:Zoom
CATEGORIES:Life Group
ATTACH;FMTTYPE=image/jpeg:https://wearefhci.com/wp-content/uploads/2024/02/Pastor-Yo-1.jpeg
END:VEVENT
BEGIN:VEVENT
DTSTART;TZID=America/Chicago:20240310T100000
DTEND;TZID=America/Chicago:20240310T120000
DTSTAMP:20260422T020104
CREATED:20240309T033333Z
LAST-MODIFIED:20240309T033333Z
UID:6801-1710064800-1710072000@wearefhci.com
SUMMARY:Sunday Service
DESCRIPTION:Worship & Word service \nViews: 2
URL:https://wearefhci.com/event/sunday-service-3/
LOCATION:Fathers Heart Church International\, 5824 W. Diversey\, Chicago\, IL\, 60639\, United States
ATTACH;FMTTYPE=image/png:https://wearefhci.com/wp-content/uploads/2024/02/BIG-TRANSPARENT-PNG.png
END:VEVENT
END:VCALENDAR