BEGIN:VCALENDAR
VERSION:2.0
PRODID:-//Father&#039;s Heart Church International - ECPv6.15.20//NONSGML v1.0//EN
CALSCALE:GREGORIAN
METHOD:PUBLISH
X-WR-CALNAME:Father&#039;s Heart Church International
X-ORIGINAL-URL:https://wearefhci.com
X-WR-CALDESC:Events for Father&#039;s Heart Church International
REFRESH-INTERVAL;VALUE=DURATION:PT1H
X-Robots-Tag:noindex
X-PUBLISHED-TTL:PT1H
BEGIN:VTIMEZONE
TZID:America/Chicago
BEGIN:DAYLIGHT
TZOFFSETFROM:-0600
TZOFFSETTO:-0500
TZNAME:CDT
DTSTART:20240310T080000
END:DAYLIGHT
BEGIN:STANDARD
TZOFFSETFROM:-0500
TZOFFSETTO:-0600
TZNAME:CST
DTSTART:20241103T070000
END:STANDARD
BEGIN:DAYLIGHT
TZOFFSETFROM:-0600
TZOFFSETTO:-0500
TZNAME:CDT
DTSTART:20250309T080000
END:DAYLIGHT
BEGIN:STANDARD
TZOFFSETFROM:-0500
TZOFFSETTO:-0600
TZNAME:CST
DTSTART:20251102T070000
END:STANDARD
BEGIN:DAYLIGHT
TZOFFSETFROM:-0600
TZOFFSETTO:-0500
TZNAME:CDT
DTSTART:20260308T080000
END:DAYLIGHT
BEGIN:STANDARD
TZOFFSETFROM:-0500
TZOFFSETTO:-0600
TZNAME:CST
DTSTART:20261101T070000
END:STANDARD
END:VTIMEZONE
BEGIN:VEVENT
DTSTART;TZID=America/Chicago:20251102T120000
DTEND;TZID=America/Chicago:20251102T130000
DTSTAMP:20260421T054653
CREATED:20251018T151306Z
LAST-MODIFIED:20251018T151306Z
UID:8133-1762084800-1762088400@wearefhci.com
SUMMARY:FHCI Massachusetts Sunday Service
DESCRIPTION:Join Pastors Carlos & Maria Almendarez for FHCI Massachusetts Sunday Worship Service! \nViews: 5
URL:https://wearefhci.com/event/fhci-massachusetts-sunday-service-44/
LOCATION:Facebook Live
CATEGORIES:Sunday Service
ATTACH;FMTTYPE=image/jpeg:https://wearefhci.com/wp-content/uploads/2025/06/9b6604b4-c5cd-42f2-a543-5e7fef455d4e.jpg
ORGANIZER;CN="Without Walls Ministry":MAILTO:withoutwallsministry2024@gmail.com
END:VEVENT
BEGIN:VEVENT
DTSTART;TZID=America/Chicago:20251102T103000
DTEND;TZID=America/Chicago:20251102T120000
DTSTAMP:20260421T054653
CREATED:20251018T151227Z
LAST-MODIFIED:20251018T151227Z
UID:8131-1762079400-1762084800@wearefhci.com
SUMMARY:FHCI Worship & Word Service
DESCRIPTION:Come join us! \nViews: 5
URL:https://wearefhci.com/event/fhci-worship-word-service-50/
LOCATION:Fathers Heart Church International\, 5824 W. Diversey\, Chicago\, IL\, 60639\, United States
CATEGORIES:Sunday Service
ATTACH;FMTTYPE=image/jpeg:https://wearefhci.com/wp-content/uploads/2024/02/JPEG-e1707760486717.jpg
END:VEVENT
BEGIN:VEVENT
DTSTART;TZID=America/Chicago:20251026T120000
DTEND;TZID=America/Chicago:20251026T130000
DTSTAMP:20260421T054653
CREATED:20250929T154050Z
LAST-MODIFIED:20250929T154050Z
UID:8052-1761480000-1761483600@wearefhci.com
SUMMARY:FHCI Massachusetts Sunday Service
DESCRIPTION:Join Pastors Carlos & Maria Almendarez for FHCI Massachusetts Sunday Worship Service! \nViews: 5
URL:https://wearefhci.com/event/fhci-massachusetts-sunday-service-43/
LOCATION:Facebook Live
CATEGORIES:Sunday Service
ATTACH;FMTTYPE=image/jpeg:https://wearefhci.com/wp-content/uploads/2025/06/9b6604b4-c5cd-42f2-a543-5e7fef455d4e.jpg
ORGANIZER;CN="Without Walls Ministry":MAILTO:withoutwallsministry2024@gmail.com
END:VEVENT
BEGIN:VEVENT
DTSTART;TZID=America/Chicago:20251026T103000
DTEND;TZID=America/Chicago:20251026T120000
DTSTAMP:20260421T054653
CREATED:20250929T153324Z
LAST-MODIFIED:20250929T153324Z
UID:8035-1761474600-1761480000@wearefhci.com
SUMMARY:FHCI Worship & Word Service
DESCRIPTION:Come join us! \nViews: 5
URL:https://wearefhci.com/event/fhci-worship-word-service-49/
LOCATION:Fathers Heart Church International\, 5824 W. Diversey\, Chicago\, IL\, 60639\, United States
CATEGORIES:Sunday Service
ATTACH;FMTTYPE=image/jpeg:https://wearefhci.com/wp-content/uploads/2024/02/JPEG-e1707760486717.jpg
END:VEVENT
BEGIN:VEVENT
DTSTART;TZID=America/Chicago:20251019T120000
DTEND;TZID=America/Chicago:20251019T130000
DTSTAMP:20260421T054653
CREATED:20250929T154024Z
LAST-MODIFIED:20250929T154024Z
UID:8051-1760875200-1760878800@wearefhci.com
SUMMARY:FHCI Massachusetts Sunday Service
DESCRIPTION:Join Pastors Carlos & Maria Almendarez for FHCI Massachusetts Sunday Worship Service! \nViews: 5
URL:https://wearefhci.com/event/fhci-massachusetts-sunday-service-42/
LOCATION:Facebook Live
CATEGORIES:Sunday Service
ATTACH;FMTTYPE=image/jpeg:https://wearefhci.com/wp-content/uploads/2025/06/9b6604b4-c5cd-42f2-a543-5e7fef455d4e.jpg
ORGANIZER;CN="Without Walls Ministry":MAILTO:withoutwallsministry2024@gmail.com
END:VEVENT
BEGIN:VEVENT
DTSTART;TZID=America/Chicago:20251019T103000
DTEND;TZID=America/Chicago:20251019T120000
DTSTAMP:20260421T054653
CREATED:20250929T153200Z
LAST-MODIFIED:20251008T003452Z
UID:8033-1760869800-1760875200@wearefhci.com
SUMMARY:FHCI Ordination Sunday!
DESCRIPTION:Come join us! \nViews: 5
URL:https://wearefhci.com/event/fhci-worship-word-service-48/
LOCATION:Fathers Heart Church International\, 5824 W. Diversey\, Chicago\, IL\, 60639\, United States
CATEGORIES:Sunday Service
ATTACH;FMTTYPE=image/jpeg:https://wearefhci.com/wp-content/uploads/2025/09/PHOTO-2025-09-20-21-27-49-1.jpg
END:VEVENT
BEGIN:VEVENT
DTSTART;TZID=America/Chicago:20251012T120000
DTEND;TZID=America/Chicago:20251012T130000
DTSTAMP:20260421T054653
CREATED:20250929T153935Z
LAST-MODIFIED:20250929T153935Z
UID:8044-1760270400-1760274000@wearefhci.com
SUMMARY:FHCI Massachusetts Sunday Service
DESCRIPTION:Join Pastors Carlos & Maria Almendarez for FHCI Massachusetts Sunday Worship Service! \nViews: 5
URL:https://wearefhci.com/event/fhci-massachusetts-sunday-service-41/
LOCATION:Facebook Live
CATEGORIES:Sunday Service
ATTACH;FMTTYPE=image/jpeg:https://wearefhci.com/wp-content/uploads/2025/06/9b6604b4-c5cd-42f2-a543-5e7fef455d4e.jpg
ORGANIZER;CN="Without Walls Ministry":MAILTO:withoutwallsministry2024@gmail.com
END:VEVENT
BEGIN:VEVENT
DTSTART;TZID=America/Chicago:20251012T103000
DTEND;TZID=America/Chicago:20251012T120000
DTSTAMP:20260421T054653
CREATED:20250929T153135Z
LAST-MODIFIED:20250929T153135Z
UID:8034-1760265000-1760270400@wearefhci.com
SUMMARY:FHCI Worship & Word Service
DESCRIPTION:Come join us! \nViews: 5
URL:https://wearefhci.com/event/fhci-worship-word-service-47/
LOCATION:Fathers Heart Church International\, 5824 W. Diversey\, Chicago\, IL\, 60639\, United States
CATEGORIES:Sunday Service
ATTACH;FMTTYPE=image/jpeg:https://wearefhci.com/wp-content/uploads/2024/02/JPEG-e1707760486717.jpg
END:VEVENT
BEGIN:VEVENT
DTSTART;TZID=America/Chicago:20251005T120000
DTEND;TZID=America/Chicago:20251005T130000
DTSTAMP:20260421T054653
CREATED:20250929T153911Z
LAST-MODIFIED:20250929T153911Z
UID:8043-1759665600-1759669200@wearefhci.com
SUMMARY:FHCI Massachusetts Sunday Service
DESCRIPTION:Join Pastors Carlos & Maria Almendarez for FHCI Massachusetts Sunday Worship Service! \nViews: 5
URL:https://wearefhci.com/event/fhci-massachusetts-sunday-service-40/
LOCATION:Facebook Live
CATEGORIES:Sunday Service
ATTACH;FMTTYPE=image/jpeg:https://wearefhci.com/wp-content/uploads/2025/06/9b6604b4-c5cd-42f2-a543-5e7fef455d4e.jpg
ORGANIZER;CN="Without Walls Ministry":MAILTO:withoutwallsministry2024@gmail.com
END:VEVENT
BEGIN:VEVENT
DTSTART;TZID=America/Chicago:20251005T103000
DTEND;TZID=America/Chicago:20251005T120000
DTSTAMP:20260421T054653
CREATED:20250929T153021Z
LAST-MODIFIED:20250929T153021Z
UID:8028-1759660200-1759665600@wearefhci.com
SUMMARY:FHCI Worship & Word Service
DESCRIPTION:Come join us! \nViews: 5
URL:https://wearefhci.com/event/fhci-worship-word-service-46/
LOCATION:Fathers Heart Church International\, 5824 W. Diversey\, Chicago\, IL\, 60639\, United States
CATEGORIES:Sunday Service
ATTACH;FMTTYPE=image/jpeg:https://wearefhci.com/wp-content/uploads/2024/02/JPEG-e1707760486717.jpg
END:VEVENT
BEGIN:VEVENT
DTSTART;TZID=America/Chicago:20250928T120000
DTEND;TZID=America/Chicago:20250928T130000
DTSTAMP:20260421T054653
CREATED:20250929T153842Z
LAST-MODIFIED:20250929T153842Z
UID:8042-1759060800-1759064400@wearefhci.com
SUMMARY:FHCI Massachusetts Sunday Service
DESCRIPTION:Join Pastors Carlos & Maria Almendarez for FHCI Massachusetts Sunday Worship Service! \nViews: 5
URL:https://wearefhci.com/event/fhci-massachusetts-sunday-service-39/
LOCATION:Facebook Live
CATEGORIES:Sunday Service
ATTACH;FMTTYPE=image/jpeg:https://wearefhci.com/wp-content/uploads/2025/06/9b6604b4-c5cd-42f2-a543-5e7fef455d4e.jpg
ORGANIZER;CN="Without Walls Ministry":MAILTO:withoutwallsministry2024@gmail.com
END:VEVENT
BEGIN:VEVENT
DTSTART;TZID=America/Chicago:20250928T103000
DTEND;TZID=America/Chicago:20250928T120000
DTSTAMP:20260421T054653
CREATED:20250929T152922Z
LAST-MODIFIED:20250929T152922Z
UID:8027-1759055400-1759060800@wearefhci.com
SUMMARY:FHCI Worship & Word Service
DESCRIPTION:Come join us! \nViews: 5
URL:https://wearefhci.com/event/fhci-worship-word-service-45/
LOCATION:Fathers Heart Church International\, 5824 W. Diversey\, Chicago\, IL\, 60639\, United States
CATEGORIES:Sunday Service
ATTACH;FMTTYPE=image/jpeg:https://wearefhci.com/wp-content/uploads/2024/02/JPEG-e1707760486717.jpg
END:VEVENT
BEGIN:VEVENT
DTSTART;TZID=America/Chicago:20250921T120000
DTEND;TZID=America/Chicago:20250921T130000
DTSTAMP:20260421T054653
CREATED:20250929T153809Z
LAST-MODIFIED:20250929T153809Z
UID:8041-1758456000-1758459600@wearefhci.com
SUMMARY:FHCI Massachusetts Sunday Service
DESCRIPTION:Join Pastors Carlos & Maria Almendarez for FHCI Massachusetts Sunday Worship Service! \nViews: 5
URL:https://wearefhci.com/event/fhci-massachusetts-sunday-service-38/
LOCATION:Facebook Live
CATEGORIES:Sunday Service
ATTACH;FMTTYPE=image/jpeg:https://wearefhci.com/wp-content/uploads/2025/06/9b6604b4-c5cd-42f2-a543-5e7fef455d4e.jpg
ORGANIZER;CN="Without Walls Ministry":MAILTO:withoutwallsministry2024@gmail.com
END:VEVENT
BEGIN:VEVENT
DTSTART;TZID=America/Chicago:20250921T103000
DTEND;TZID=America/Chicago:20250921T120000
DTSTAMP:20260421T054653
CREATED:20250929T152856Z
LAST-MODIFIED:20250929T152856Z
UID:8026-1758450600-1758456000@wearefhci.com
SUMMARY:FHCI Worship & Word Service
DESCRIPTION:Come join us! \nViews: 5
URL:https://wearefhci.com/event/fhci-worship-word-service-44/
LOCATION:Fathers Heart Church International\, 5824 W. Diversey\, Chicago\, IL\, 60639\, United States
CATEGORIES:Sunday Service
ATTACH;FMTTYPE=image/jpeg:https://wearefhci.com/wp-content/uploads/2024/02/JPEG-e1707760486717.jpg
END:VEVENT
BEGIN:VEVENT
DTSTART;TZID=America/Chicago:20250914T120000
DTEND;TZID=America/Chicago:20250914T130000
DTSTAMP:20260421T054653
CREATED:20250929T153735Z
LAST-MODIFIED:20250929T153735Z
UID:8040-1757851200-1757854800@wearefhci.com
SUMMARY:FHCI Massachusetts Sunday Service
DESCRIPTION:Join Pastors Carlos & Maria Almendarez for FHCI Massachusetts Sunday Worship Service! \nViews: 5
URL:https://wearefhci.com/event/fhci-massachusetts-sunday-service-37/
LOCATION:Facebook Live
CATEGORIES:Sunday Service
ATTACH;FMTTYPE=image/jpeg:https://wearefhci.com/wp-content/uploads/2025/06/9b6604b4-c5cd-42f2-a543-5e7fef455d4e.jpg
ORGANIZER;CN="Without Walls Ministry":MAILTO:withoutwallsministry2024@gmail.com
END:VEVENT
BEGIN:VEVENT
DTSTART;TZID=America/Chicago:20250914T103000
DTEND;TZID=America/Chicago:20250914T120000
DTSTAMP:20260421T054653
CREATED:20250929T152827Z
LAST-MODIFIED:20250929T152827Z
UID:8025-1757845800-1757851200@wearefhci.com
SUMMARY:FHCI Worship & Word Service
DESCRIPTION:Come join us! \nViews: 5
URL:https://wearefhci.com/event/fhci-worship-word-service-43/
LOCATION:Fathers Heart Church International\, 5824 W. Diversey\, Chicago\, IL\, 60639\, United States
CATEGORIES:Sunday Service
ATTACH;FMTTYPE=image/jpeg:https://wearefhci.com/wp-content/uploads/2024/02/JPEG-e1707760486717.jpg
END:VEVENT
BEGIN:VEVENT
DTSTART;TZID=America/Chicago:20250907T120000
DTEND;TZID=America/Chicago:20250907T130000
DTSTAMP:20260421T054653
CREATED:20250929T153624Z
LAST-MODIFIED:20250929T153624Z
UID:8039-1757246400-1757250000@wearefhci.com
SUMMARY:FHCI Massachusetts Sunday Service
DESCRIPTION:Join Pastors Carlos & Maria Almendarez for FHCI Massachusetts Sunday Worship Service! \nViews: 5
URL:https://wearefhci.com/event/fhci-massachusetts-sunday-service-36/
LOCATION:Facebook Live
CATEGORIES:Sunday Service
ATTACH;FMTTYPE=image/jpeg:https://wearefhci.com/wp-content/uploads/2025/06/9b6604b4-c5cd-42f2-a543-5e7fef455d4e.jpg
ORGANIZER;CN="Without Walls Ministry":MAILTO:withoutwallsministry2024@gmail.com
END:VEVENT
BEGIN:VEVENT
DTSTART;TZID=America/Chicago:20250831T120000
DTEND;TZID=America/Chicago:20250831T130000
DTSTAMP:20260421T054653
CREATED:20250717T235405Z
LAST-MODIFIED:20250717T235405Z
UID:7958-1756641600-1756645200@wearefhci.com
SUMMARY:FHCI Massachusetts Sunday Service
DESCRIPTION:Join Pastors Carlos & Maria Almendarez for FHCI Massachusetts Sunday Worship Service! \nViews: 5
URL:https://wearefhci.com/event/fhci-massachusetts-sunday-service-35/
LOCATION:Facebook Live
CATEGORIES:Sunday Service
ATTACH;FMTTYPE=image/jpeg:https://wearefhci.com/wp-content/uploads/2025/06/9b6604b4-c5cd-42f2-a543-5e7fef455d4e.jpg
ORGANIZER;CN="Without Walls Ministry":MAILTO:withoutwallsministry2024@gmail.com
END:VEVENT
BEGIN:VEVENT
DTSTART;TZID=America/Chicago:20250831T103000
DTEND;TZID=America/Chicago:20250831T120000
DTSTAMP:20260421T054653
CREATED:20250717T234704Z
LAST-MODIFIED:20250717T234704Z
UID:7940-1756636200-1756641600@wearefhci.com
SUMMARY:FHCI Worship & Word Service
DESCRIPTION:Come join us! \nViews: 5
URL:https://wearefhci.com/event/fhci-worship-word-service-42/
LOCATION:Fathers Heart Church International\, 5824 W. Diversey\, Chicago\, IL\, 60639\, United States
CATEGORIES:Sunday Service
ATTACH;FMTTYPE=image/jpeg:https://wearefhci.com/wp-content/uploads/2024/02/JPEG-e1707760486717.jpg
END:VEVENT
BEGIN:VEVENT
DTSTART;TZID=America/Chicago:20250824T120000
DTEND;TZID=America/Chicago:20250824T130000
DTSTAMP:20260421T054653
CREATED:20250717T235331Z
LAST-MODIFIED:20250717T235331Z
UID:7957-1756036800-1756040400@wearefhci.com
SUMMARY:FHCI Massachusetts Sunday Service
DESCRIPTION:Join Pastors Carlos & Maria Almendarez for FHCI Massachusetts Sunday Worship Service! \nViews: 5
URL:https://wearefhci.com/event/fhci-massachusetts-sunday-service-34/
LOCATION:Facebook Live
CATEGORIES:Sunday Service
ATTACH;FMTTYPE=image/jpeg:https://wearefhci.com/wp-content/uploads/2025/06/9b6604b4-c5cd-42f2-a543-5e7fef455d4e.jpg
ORGANIZER;CN="Without Walls Ministry":MAILTO:withoutwallsministry2024@gmail.com
END:VEVENT
BEGIN:VEVENT
DTSTART;TZID=America/Chicago:20250824T103000
DTEND;TZID=America/Chicago:20250824T120000
DTSTAMP:20260421T054653
CREATED:20250717T234638Z
LAST-MODIFIED:20250717T234638Z
UID:7939-1756031400-1756036800@wearefhci.com
SUMMARY:FHCI Worship & Word Service
DESCRIPTION:Come join us! \nViews: 5
URL:https://wearefhci.com/event/fhci-worship-word-service-41/
LOCATION:Fathers Heart Church International\, 5824 W. Diversey\, Chicago\, IL\, 60639\, United States
CATEGORIES:Sunday Service
ATTACH;FMTTYPE=image/jpeg:https://wearefhci.com/wp-content/uploads/2024/02/JPEG-e1707760486717.jpg
END:VEVENT
BEGIN:VEVENT
DTSTART;TZID=America/Chicago:20250817T120000
DTEND;TZID=America/Chicago:20250817T130000
DTSTAMP:20260421T054653
CREATED:20250717T235227Z
LAST-MODIFIED:20250717T235227Z
UID:7953-1755432000-1755435600@wearefhci.com
SUMMARY:FHCI Massachusetts Sunday Service
DESCRIPTION:Join Pastors Carlos & Maria Almendarez for FHCI Massachusetts Sunday Worship Service! \nViews: 5
URL:https://wearefhci.com/event/fhci-massachusetts-sunday-service-33/
LOCATION:Facebook Live
CATEGORIES:Sunday Service
ATTACH;FMTTYPE=image/jpeg:https://wearefhci.com/wp-content/uploads/2025/06/9b6604b4-c5cd-42f2-a543-5e7fef455d4e.jpg
ORGANIZER;CN="Without Walls Ministry":MAILTO:withoutwallsministry2024@gmail.com
END:VEVENT
BEGIN:VEVENT
DTSTART;TZID=America/Chicago:20250817T103000
DTEND;TZID=America/Chicago:20250817T120000
DTSTAMP:20260421T054653
CREATED:20250717T234554Z
LAST-MODIFIED:20250717T234554Z
UID:7934-1755426600-1755432000@wearefhci.com
SUMMARY:FHCI Worship & Word Service
DESCRIPTION:Come join us! \nViews: 5
URL:https://wearefhci.com/event/fhci-worship-word-service-40/
LOCATION:Fathers Heart Church International\, 5824 W. Diversey\, Chicago\, IL\, 60639\, United States
CATEGORIES:Sunday Service
ATTACH;FMTTYPE=image/jpeg:https://wearefhci.com/wp-content/uploads/2024/02/JPEG-e1707760486717.jpg
END:VEVENT
BEGIN:VEVENT
DTSTART;TZID=America/Chicago:20250816T120000
DTEND;TZID=America/Chicago:20250816T160000
DTSTAMP:20260421T054653
CREATED:20250220T041745Z
LAST-MODIFIED:20250310T150929Z
UID:7607-1755345600-1755360000@wearefhci.com
SUMMARY:FHCI / W2WGM Annual Women's Gathering
DESCRIPTION:✨ LADIES\, IT’S TIME! ✨ \nJoin us for the Annual Women’s Gathering 2025 – a powerful\, life-changing experience you DO NOT want to miss!  This year’s theme:  “THEN AND NOW: THE REDEMPTIVE STORY” is all about God’s transforming power – where we’ve been\, where we are\, and the NEW THING He is doing in our lives! \n🔥 Are you ready to walk boldly in your God-given purpose? \n🔥 Do you want to be renewed\, restored\, and empowered? \n🔥 Come experience faith\, fellowship\, and transformation like never before! \n💖 We begin with love and end with love!  Bring a friend and get ready to experience a powerful move of God! 🙌 🔥 \n✨ RSVP NOW:  Use the link below! \n#WomensGathering2025 #ThenAndNow #TheRedemptiveStory #NewBeginnings #GodIsDoingANewThing #Faith #Restoration #Empowerment \nViews: 5
URL:https://wearefhci.com/event/fhci-w2wgm-annual-womens-gathering/
LOCATION:IL
CATEGORIES:W2W Ministry
ATTACH;FMTTYPE=image/jpeg:https://wearefhci.com/wp-content/uploads/2025/02/IMG_7088.jpg
END:VEVENT
BEGIN:VEVENT
DTSTART;TZID=America/Chicago:20250810T120000
DTEND;TZID=America/Chicago:20250810T130000
DTSTAMP:20260421T054653
CREATED:20250717T235138Z
LAST-MODIFIED:20250717T235138Z
UID:7952-1754827200-1754830800@wearefhci.com
SUMMARY:FHCI Massachusetts Sunday Service
DESCRIPTION:Join Pastors Carlos & Maria Almendarez for FHCI Massachusetts Sunday Worship Service! \nViews: 5
URL:https://wearefhci.com/event/fhci-massachusetts-sunday-service-32/
LOCATION:Facebook Live
CATEGORIES:Sunday Service
ATTACH;FMTTYPE=image/jpeg:https://wearefhci.com/wp-content/uploads/2025/06/9b6604b4-c5cd-42f2-a543-5e7fef455d4e.jpg
ORGANIZER;CN="Without Walls Ministry":MAILTO:withoutwallsministry2024@gmail.com
END:VEVENT
BEGIN:VEVENT
DTSTART;TZID=America/Chicago:20250810T103000
DTEND;TZID=America/Chicago:20250810T120000
DTSTAMP:20260421T054653
CREATED:20250717T234525Z
LAST-MODIFIED:20250717T234525Z
UID:7933-1754821800-1754827200@wearefhci.com
SUMMARY:FHCI Worship & Word Service
DESCRIPTION:Come join us! \nViews: 5
URL:https://wearefhci.com/event/fhci-worship-word-service-39/
LOCATION:Fathers Heart Church International\, 5824 W. Diversey\, Chicago\, IL\, 60639\, United States
CATEGORIES:Sunday Service
ATTACH;FMTTYPE=image/jpeg:https://wearefhci.com/wp-content/uploads/2024/02/JPEG-e1707760486717.jpg
END:VEVENT
BEGIN:VEVENT
DTSTART;TZID=America/Chicago:20250803T120000
DTEND;TZID=America/Chicago:20250803T130000
DTSTAMP:20260421T054653
CREATED:20250717T235102Z
LAST-MODIFIED:20250717T235102Z
UID:7951-1754222400-1754226000@wearefhci.com
SUMMARY:FHCI Massachusetts Sunday Service
DESCRIPTION:Join Pastors Carlos & Maria Almendarez for FHCI Massachusetts Sunday Worship Service! \nViews: 5
URL:https://wearefhci.com/event/fhci-massachusetts-sunday-service-31/
LOCATION:Facebook Live
CATEGORIES:Sunday Service
ATTACH;FMTTYPE=image/jpeg:https://wearefhci.com/wp-content/uploads/2025/06/9b6604b4-c5cd-42f2-a543-5e7fef455d4e.jpg
ORGANIZER;CN="Without Walls Ministry":MAILTO:withoutwallsministry2024@gmail.com
END:VEVENT
BEGIN:VEVENT
DTSTART;TZID=America/Chicago:20250803T103000
DTEND;TZID=America/Chicago:20250803T120000
DTSTAMP:20260421T054653
CREATED:20250717T234453Z
LAST-MODIFIED:20250717T234453Z
UID:7932-1754217000-1754222400@wearefhci.com
SUMMARY:FHCI Worship & Word Service
DESCRIPTION:Come join us! \nViews: 5
URL:https://wearefhci.com/event/fhci-worship-word-service-38/
LOCATION:Fathers Heart Church International\, 5824 W. Diversey\, Chicago\, IL\, 60639\, United States
CATEGORIES:Sunday Service
ATTACH;FMTTYPE=image/jpeg:https://wearefhci.com/wp-content/uploads/2024/02/JPEG-e1707760486717.jpg
END:VEVENT
BEGIN:VEVENT
DTSTART;TZID=America/Chicago:20250727T120000
DTEND;TZID=America/Chicago:20250727T130000
DTSTAMP:20260421T054653
CREATED:20250717T234954Z
LAST-MODIFIED:20250717T234954Z
UID:7946-1753617600-1753621200@wearefhci.com
SUMMARY:FHCI Massachusetts Sunday Service
DESCRIPTION:Join Pastors Carlos & Maria Almendarez for FHCI Massachusetts Sunday Worship Service! \nViews: 5
URL:https://wearefhci.com/event/fhci-massachusetts-sunday-service-30/
LOCATION:Facebook Live
CATEGORIES:Sunday Service
ATTACH;FMTTYPE=image/jpeg:https://wearefhci.com/wp-content/uploads/2025/06/9b6604b4-c5cd-42f2-a543-5e7fef455d4e.jpg
ORGANIZER;CN="Without Walls Ministry":MAILTO:withoutwallsministry2024@gmail.com
END:VEVENT
BEGIN:VEVENT
DTSTART;TZID=America/Chicago:20250727T103000
DTEND;TZID=America/Chicago:20250727T120000
DTSTAMP:20260421T054653
CREATED:20250717T234425Z
LAST-MODIFIED:20250717T234425Z
UID:7931-1753612200-1753617600@wearefhci.com
SUMMARY:FHCI Worship & Word Service
DESCRIPTION:Come join us! \nViews: 5
URL:https://wearefhci.com/event/fhci-worship-word-service-37/
LOCATION:Fathers Heart Church International\, 5824 W. Diversey\, Chicago\, IL\, 60639\, United States
CATEGORIES:Sunday Service
ATTACH;FMTTYPE=image/jpeg:https://wearefhci.com/wp-content/uploads/2024/02/JPEG-e1707760486717.jpg
END:VEVENT
END:VCALENDAR