BEGIN:VCALENDAR
VERSION:2.0
PRODID:-//Father&#039;s Heart Church International - ECPv6.15.20//NONSGML v1.0//EN
CALSCALE:GREGORIAN
METHOD:PUBLISH
X-ORIGINAL-URL:https://wearefhci.com
X-WR-CALDESC:Events for Father&#039;s Heart Church International
REFRESH-INTERVAL;VALUE=DURATION:PT1H
X-Robots-Tag:noindex
X-PUBLISHED-TTL:PT1H
BEGIN:VTIMEZONE
TZID:America/Chicago
BEGIN:DAYLIGHT
TZOFFSETFROM:-0600
TZOFFSETTO:-0500
TZNAME:CDT
DTSTART:20240310T080000
END:DAYLIGHT
BEGIN:STANDARD
TZOFFSETFROM:-0500
TZOFFSETTO:-0600
TZNAME:CST
DTSTART:20241103T070000
END:STANDARD
BEGIN:DAYLIGHT
TZOFFSETFROM:-0600
TZOFFSETTO:-0500
TZNAME:CDT
DTSTART:20250309T080000
END:DAYLIGHT
BEGIN:STANDARD
TZOFFSETFROM:-0500
TZOFFSETTO:-0600
TZNAME:CST
DTSTART:20251102T070000
END:STANDARD
BEGIN:DAYLIGHT
TZOFFSETFROM:-0600
TZOFFSETTO:-0500
TZNAME:CDT
DTSTART:20260308T080000
END:DAYLIGHT
BEGIN:STANDARD
TZOFFSETFROM:-0500
TZOFFSETTO:-0600
TZNAME:CST
DTSTART:20261101T070000
END:STANDARD
END:VTIMEZONE
BEGIN:VEVENT
DTSTART;TZID=America/Chicago:20250525T103000
DTEND;TZID=America/Chicago:20250525T120000
DTSTAMP:20260421T110843
CREATED:20250414T223548Z
LAST-MODIFIED:20250414T223548Z
UID:7807-1748169000-1748174400@wearefhci.com
SUMMARY:FHCI Worship & Word Service
DESCRIPTION:Come join us! \nViews: 1
URL:https://wearefhci.com/event/fhci-worship-word-service-29/
LOCATION:Fathers Heart Church International\, 5824 W. Diversey\, Chicago\, IL\, 60639\, United States
CATEGORIES:Sunday Service
ATTACH;FMTTYPE=image/jpeg:https://wearefhci.com/wp-content/uploads/2024/02/JPEG-e1707760486717.jpg
END:VEVENT
BEGIN:VEVENT
DTSTART;TZID=America/Chicago:20250522T190000
DTEND;TZID=America/Chicago:20250522T200000
DTSTAMP:20260421T110843
CREATED:20250428T154639Z
LAST-MODIFIED:20250428T154639Z
UID:7841-1747940400-1747944000@wearefhci.com
SUMMARY:Bible Journal Study
DESCRIPTION:Join Pastor Maria as she leads us through the book of Psalms! \nViews: 1
URL:https://wearefhci.com/event/bible-journal-study-10/
LOCATION:Zoom
ATTACH;FMTTYPE=image/jpeg:https://wearefhci.com/wp-content/uploads/2025/04/PHOTO-2025-04-28-10-44-15.jpg
ORGANIZER;CN="Without Walls Ministry":MAILTO:withoutwallsministry2024@gmail.com
END:VEVENT
BEGIN:VEVENT
DTSTART;TZID=America/Chicago:20250521T193000
DTEND;TZID=America/Chicago:20250521T203000
DTSTAMP:20260421T110843
CREATED:20250427T023650Z
LAST-MODIFIED:20250427T023650Z
UID:7832-1747855800-1747859400@wearefhci.com
SUMMARY:Choque Cultural
DESCRIPTION:Estudio biblico con el Apostol David Cruz \nViews: 1
URL:https://wearefhci.com/event/choque-cultural-18/
LOCATION:Zoom
CATEGORIES:Choque Cultural
ATTACH;FMTTYPE=image/jpeg:https://wearefhci.com/wp-content/uploads/2025/04/8731659801339293148.jpg
END:VEVENT
BEGIN:VEVENT
DTSTART;TZID=America/Chicago:20250521T180000
DTEND;TZID=America/Chicago:20250521T190000
DTSTAMP:20260421T110843
CREATED:20250414T224203Z
LAST-MODIFIED:20250414T224203Z
UID:7815-1747850400-1747854000@wearefhci.com
SUMMARY:Cultivating a Unique Bond
DESCRIPTION:Join Pastors Carlos & Maria Almendarez as they explore the Names of God. \nViews: 1
URL:https://wearefhci.com/event/cultivating-a-unique-bond-16/
LOCATION:Zoom
CATEGORIES:Culture Clash
ATTACH;FMTTYPE=image/jpeg:https://wearefhci.com/wp-content/uploads/2024/04/Carlos-Maria-2.jpeg
END:VEVENT
BEGIN:VEVENT
DTSTART;TZID=America/Chicago:20250520T190000
DTEND;TZID=America/Chicago:20250520T200000
DTSTAMP:20260421T110843
CREATED:20250427T023449Z
LAST-MODIFIED:20250427T023449Z
UID:7827-1747767600-1747771200@wearefhci.com
SUMMARY:Life Group 2025
DESCRIPTION:Let’s dive deep into Matthew 6:33 with Pastor Yo! \nViews: 1
URL:https://wearefhci.com/event/life-group-2025-10/
LOCATION:Zoom
ATTACH;FMTTYPE=image/png:https://wearefhci.com/wp-content/uploads/2025/03/3294773733789292933.png
END:VEVENT
BEGIN:VEVENT
DTSTART;TZID=America/Chicago:20250518T170000
DTEND;TZID=America/Chicago:20250518T180000
DTSTAMP:20260421T110843
CREATED:20250414T223400Z
LAST-MODIFIED:20250414T223400Z
UID:7804-1747587600-1747591200@wearefhci.com
SUMMARY:FHCI Massachusetts Sunday Service
DESCRIPTION:Join Pastors Carlos & Maria Almendarez for FHCI Massachusetts Sunday Worship Service! \nViews: 1
URL:https://wearefhci.com/event/fhci-massachusetts-sunday-service-20/
LOCATION:Facebook Live
CATEGORIES:Sunday Service
ATTACH;FMTTYPE=image/jpeg:https://wearefhci.com/wp-content/uploads/2025/01/IMG_6923.jpg
ORGANIZER;CN="Without Walls Ministry":MAILTO:withoutwallsministry2024@gmail.com
END:VEVENT
BEGIN:VEVENT
DTSTART;TZID=America/Chicago:20250518T103000
DTEND;TZID=America/Chicago:20250518T120000
DTSTAMP:20260421T110843
CREATED:20250414T223308Z
LAST-MODIFIED:20250414T223308Z
UID:7803-1747564200-1747569600@wearefhci.com
SUMMARY:FHCI Worship & Word Service
DESCRIPTION:Come join us! \nViews: 1
URL:https://wearefhci.com/event/fhci-worship-word-service-28/
LOCATION:Fathers Heart Church International\, 5824 W. Diversey\, Chicago\, IL\, 60639\, United States
CATEGORIES:Sunday Service
ATTACH;FMTTYPE=image/jpeg:https://wearefhci.com/wp-content/uploads/2024/02/JPEG-e1707760486717.jpg
END:VEVENT
BEGIN:VEVENT
DTSTART;TZID=America/Chicago:20250514T180000
DTEND;TZID=America/Chicago:20250514T190000
DTSTAMP:20260421T110843
CREATED:20250414T224021Z
LAST-MODIFIED:20250414T224021Z
UID:7812-1747245600-1747249200@wearefhci.com
SUMMARY:Cultivating a Unique Bond
DESCRIPTION:Join Pastors Carlos & Maria Almendarez as they explore the Names of God. \nViews: 1
URL:https://wearefhci.com/event/cultivating-a-unique-bond-15/
LOCATION:Zoom
CATEGORIES:Culture Clash
ATTACH;FMTTYPE=image/jpeg:https://wearefhci.com/wp-content/uploads/2024/04/Carlos-Maria-2.jpeg
END:VEVENT
BEGIN:VEVENT
DTSTART;TZID=America/Chicago:20250513T190000
DTEND;TZID=America/Chicago:20250513T200000
DTSTAMP:20260421T110843
CREATED:20250427T023401Z
LAST-MODIFIED:20250427T023401Z
UID:7825-1747162800-1747166400@wearefhci.com
SUMMARY:Life Group 2025
DESCRIPTION:Let’s dive deep into Matthew 6:33 with Pastor Yo! \nViews: 1
URL:https://wearefhci.com/event/life-group-2025-9/
LOCATION:Zoom
ATTACH;FMTTYPE=image/png:https://wearefhci.com/wp-content/uploads/2025/03/3294773733789292933.png
END:VEVENT
BEGIN:VEVENT
DTSTART;TZID=America/Chicago:20250511T170000
DTEND;TZID=America/Chicago:20250511T180000
DTSTAMP:20260421T110843
CREATED:20250414T223131Z
LAST-MODIFIED:20250414T223131Z
UID:7801-1746982800-1746986400@wearefhci.com
SUMMARY:FHCI Massachusetts Sunday Service
DESCRIPTION:Join Pastors Carlos & Maria Almendarez for FHCI Massachusetts Sunday Worship Service! \nViews: 1
URL:https://wearefhci.com/event/fhci-massachusetts-sunday-service-19/
LOCATION:Facebook Live
CATEGORIES:Sunday Service
ATTACH;FMTTYPE=image/jpeg:https://wearefhci.com/wp-content/uploads/2025/01/IMG_6923.jpg
ORGANIZER;CN="Without Walls Ministry":MAILTO:withoutwallsministry2024@gmail.com
END:VEVENT
BEGIN:VEVENT
DTSTART;TZID=America/Chicago:20250511T103000
DTEND;TZID=America/Chicago:20250511T120000
DTSTAMP:20260421T110843
CREATED:20250414T223014Z
LAST-MODIFIED:20250414T223014Z
UID:7799-1746959400-1746964800@wearefhci.com
SUMMARY:FHCI Worship & Word Service
DESCRIPTION:Come join us! \nViews: 1
URL:https://wearefhci.com/event/fhci-worship-word-service-27/
LOCATION:Fathers Heart Church International\, 5824 W. Diversey\, Chicago\, IL\, 60639\, United States
CATEGORIES:Sunday Service
ATTACH;FMTTYPE=image/jpeg:https://wearefhci.com/wp-content/uploads/2024/02/JPEG-e1707760486717.jpg
END:VEVENT
BEGIN:VEVENT
DTSTART;TZID=America/Chicago:20250508T190000
DTEND;TZID=America/Chicago:20250508T200000
DTSTAMP:20260421T110843
CREATED:20250428T154601Z
LAST-MODIFIED:20250428T154601Z
UID:7837-1746730800-1746734400@wearefhci.com
SUMMARY:Bible Journal Study
DESCRIPTION:Join Pastor Maria as she leads us through the book of Psalms! \nViews: 1
URL:https://wearefhci.com/event/bible-journal-study-9/
LOCATION:Zoom
ATTACH;FMTTYPE=image/jpeg:https://wearefhci.com/wp-content/uploads/2025/04/PHOTO-2025-04-28-10-44-15.jpg
ORGANIZER;CN="Without Walls Ministry":MAILTO:withoutwallsministry2024@gmail.com
END:VEVENT
BEGIN:VEVENT
DTSTART;TZID=America/Chicago:20250507T193000
DTEND;TZID=America/Chicago:20250507T203000
DTSTAMP:20260421T110843
CREATED:20250427T023604Z
LAST-MODIFIED:20250427T023604Z
UID:7829-1746646200-1746649800@wearefhci.com
SUMMARY:Choque Cultural
DESCRIPTION:Estudio biblico con el Apostol David Cruz \nViews: 1
URL:https://wearefhci.com/event/choque-cultural-17/
LOCATION:Zoom
CATEGORIES:Choque Cultural
ATTACH;FMTTYPE=image/jpeg:https://wearefhci.com/wp-content/uploads/2025/04/8731659801339293148.jpg
END:VEVENT
BEGIN:VEVENT
DTSTART;TZID=America/Chicago:20250507T180000
DTEND;TZID=America/Chicago:20250507T190000
DTSTAMP:20260421T110843
CREATED:20250414T223922Z
LAST-MODIFIED:20250414T223922Z
UID:7811-1746640800-1746644400@wearefhci.com
SUMMARY:Cultivating a Unique Bond
DESCRIPTION:Join Pastors Carlos & Maria Almendarez as they explore the Names of God. \nViews: 1
URL:https://wearefhci.com/event/cultivating-a-unique-bond-14/
LOCATION:Zoom
CATEGORIES:Culture Clash
ATTACH;FMTTYPE=image/jpeg:https://wearefhci.com/wp-content/uploads/2024/04/Carlos-Maria-2.jpeg
END:VEVENT
BEGIN:VEVENT
DTSTART;TZID=America/Chicago:20250506T190000
DTEND;TZID=America/Chicago:20250506T200000
DTSTAMP:20260421T110843
CREATED:20250325T175311Z
LAST-MODIFIED:20250427T023311Z
UID:7765-1746558000-1746561600@wearefhci.com
SUMMARY:Life Group 2025
DESCRIPTION:Let’s dive deep into Matthew 6:33 with Pastor Yo! \nViews: 1
URL:https://wearefhci.com/event/life-group-2025-8/
LOCATION:Zoom
ATTACH;FMTTYPE=image/png:https://wearefhci.com/wp-content/uploads/2025/03/3294773733789292933.png
END:VEVENT
BEGIN:VEVENT
DTSTART;TZID=America/Chicago:20250504T170000
DTEND;TZID=America/Chicago:20250504T180000
DTSTAMP:20260421T110843
CREATED:20250414T222850Z
LAST-MODIFIED:20250414T222850Z
UID:7797-1746378000-1746381600@wearefhci.com
SUMMARY:FHCI Massachusetts Sunday Service
DESCRIPTION:Join Pastors Carlos & Maria Almendarez for FHCI Massachusetts Sunday Worship Service! \nViews: 1
URL:https://wearefhci.com/event/fhci-massachusetts-sunday-service-18/
LOCATION:Facebook Live
CATEGORIES:Sunday Service
ATTACH;FMTTYPE=image/jpeg:https://wearefhci.com/wp-content/uploads/2025/01/IMG_6923.jpg
ORGANIZER;CN="Without Walls Ministry":MAILTO:withoutwallsministry2024@gmail.com
END:VEVENT
BEGIN:VEVENT
DTSTART;TZID=America/Chicago:20250504T103000
DTEND;TZID=America/Chicago:20250504T120000
DTSTAMP:20260421T110843
CREATED:20250414T222657Z
LAST-MODIFIED:20250414T222657Z
UID:7795-1746354600-1746360000@wearefhci.com
SUMMARY:FHCI Worship & Word Service
DESCRIPTION:Come join us! \nViews: 1
URL:https://wearefhci.com/event/fhci-worship-word-service-26/
LOCATION:Fathers Heart Church International\, 5824 W. Diversey\, Chicago\, IL\, 60639\, United States
CATEGORIES:Sunday Service
ATTACH;FMTTYPE=image/jpeg:https://wearefhci.com/wp-content/uploads/2024/02/JPEG-e1707760486717.jpg
END:VEVENT
BEGIN:VEVENT
DTSTART;TZID=America/Chicago:20250430T180000
DTEND;TZID=America/Chicago:20250430T190000
DTSTAMP:20260421T110843
CREATED:20250325T175347Z
LAST-MODIFIED:20250325T175347Z
UID:7767-1746036000-1746039600@wearefhci.com
SUMMARY:Cultivating a Unique Bond
DESCRIPTION:Join Pastors Carlos & Maria Almendarez as they explore the Names of God. \nViews: 1
URL:https://wearefhci.com/event/cultivating-a-unique-bond-13/
LOCATION:Zoom
CATEGORIES:Culture Clash
ATTACH;FMTTYPE=image/jpeg:https://wearefhci.com/wp-content/uploads/2024/04/Carlos-Maria-2.jpeg
END:VEVENT
BEGIN:VEVENT
DTSTART;TZID=America/Chicago:20250427T170000
DTEND;TZID=America/Chicago:20250427T180000
DTSTAMP:20260421T110843
CREATED:20250325T175231Z
LAST-MODIFIED:20250325T175231Z
UID:7763-1745773200-1745776800@wearefhci.com
SUMMARY:FHCI Massachusetts Sunday Service
DESCRIPTION:Join Pastors Carlos & Maria Almendarez for FHCI Massachusetts Sunday Worship Service! \nViews: 1
URL:https://wearefhci.com/event/fhci-massachusetts-sunday-service-16/
LOCATION:Facebook Live
CATEGORIES:Sunday Service
ATTACH;FMTTYPE=image/jpeg:https://wearefhci.com/wp-content/uploads/2025/01/IMG_6923.jpg
ORGANIZER;CN="Without Walls Ministry":MAILTO:withoutwallsministry2024@gmail.com
END:VEVENT
BEGIN:VEVENT
DTSTART;TZID=America/Chicago:20250427T103000
DTEND;TZID=America/Chicago:20250427T120000
DTSTAMP:20260421T110843
CREATED:20250325T175156Z
LAST-MODIFIED:20250325T175156Z
UID:7761-1745749800-1745755200@wearefhci.com
SUMMARY:FHCI Worship & Word Service
DESCRIPTION:Come join us! \nViews: 1
URL:https://wearefhci.com/event/fhci-worship-word-service-25/
LOCATION:Fathers Heart Church International\, 5824 W. Diversey\, Chicago\, IL\, 60639\, United States
CATEGORIES:Sunday Service
ATTACH;FMTTYPE=image/jpeg:https://wearefhci.com/wp-content/uploads/2024/02/JPEG-e1707760486717.jpg
END:VEVENT
BEGIN:VEVENT
DTSTART;TZID=America/Chicago:20250423T193000
DTEND;TZID=America/Chicago:20250423T203000
DTSTAMP:20260421T110843
CREATED:20250325T175106Z
LAST-MODIFIED:20250325T175106Z
UID:7759-1745436600-1745440200@wearefhci.com
SUMMARY:Choque Cultural
DESCRIPTION:Estudio biblico con el Apostol David Cruz \nViews: 1
URL:https://wearefhci.com/event/choque-cultural-16/
LOCATION:Zoom
CATEGORIES:Choque Cultural
ATTACH;FMTTYPE=image/jpeg:https://wearefhci.com/wp-content/uploads/2025/03/6478922312950148910.jpg
END:VEVENT
BEGIN:VEVENT
DTSTART;TZID=America/Chicago:20250423T180000
DTEND;TZID=America/Chicago:20250423T190000
DTSTAMP:20260421T110843
CREATED:20250325T175020Z
LAST-MODIFIED:20250325T175020Z
UID:7757-1745431200-1745434800@wearefhci.com
SUMMARY:Cultivating a Unique Bond
DESCRIPTION:Join Pastors Carlos & Maria Almendarez as they explore the Names of God. \nViews: 1
URL:https://wearefhci.com/event/cultivating-a-unique-bond-12/
LOCATION:Zoom
CATEGORIES:Culture Clash
ATTACH;FMTTYPE=image/jpeg:https://wearefhci.com/wp-content/uploads/2024/04/Carlos-Maria-2.jpeg
END:VEVENT
BEGIN:VEVENT
DTSTART;TZID=America/Chicago:20250420T170000
DTEND;TZID=America/Chicago:20250420T180000
DTSTAMP:20260421T110843
CREATED:20250330T135942Z
LAST-MODIFIED:20250330T135942Z
UID:7776-1745168400-1745172000@wearefhci.com
SUMMARY:FHCI Massachusetts Sunday Service
DESCRIPTION:Join Pastors Carlos & Maria Almendarez for FHCI Massachusetts Sunday Worship Service! \nViews: 1
URL:https://wearefhci.com/event/fhci-massachusetts-sunday-service-17/
LOCATION:Facebook Live
CATEGORIES:Sunday Service
ATTACH;FMTTYPE=image/jpeg:https://wearefhci.com/wp-content/uploads/2025/01/IMG_6923.jpg
ORGANIZER;CN="Without Walls Ministry":MAILTO:withoutwallsministry2024@gmail.com
END:VEVENT
BEGIN:VEVENT
DTSTART;TZID=America/Chicago:20250420T103000
DTEND;TZID=America/Chicago:20250420T120000
DTSTAMP:20260421T110843
CREATED:20250325T174755Z
LAST-MODIFIED:20250325T174755Z
UID:7755-1745145000-1745150400@wearefhci.com
SUMMARY:FHCI Worship & Word Service
DESCRIPTION:Come join us! \nViews: 1
URL:https://wearefhci.com/event/fhci-worship-word-service-24/
LOCATION:Fathers Heart Church International\, 5824 W. Diversey\, Chicago\, IL\, 60639\, United States
CATEGORIES:Sunday Service
ATTACH;FMTTYPE=image/jpeg:https://wearefhci.com/wp-content/uploads/2024/02/JPEG-e1707760486717.jpg
END:VEVENT
BEGIN:VEVENT
DTSTART;TZID=America/Chicago:20250417T190000
DTEND;TZID=America/Chicago:20250417T200000
DTSTAMP:20260421T110843
CREATED:20250325T174720Z
LAST-MODIFIED:20250409T155205Z
UID:7753-1744916400-1744920000@wearefhci.com
SUMMARY:Bible Journal Study
DESCRIPTION:Join Pastor Maria as she leads us through the book of Psalms! \nViews: 1
URL:https://wearefhci.com/event/bible-journal-study-8/
LOCATION:Zoom
ATTACH;FMTTYPE=image/jpeg:https://wearefhci.com/wp-content/uploads/2025/03/PHOTO-2025-04-06-10-00-36.jpg
ORGANIZER;CN="Without Walls Ministry":MAILTO:withoutwallsministry2024@gmail.com
END:VEVENT
BEGIN:VEVENT
DTSTART;TZID=America/Chicago:20250416T180000
DTEND;TZID=America/Chicago:20250416T190000
DTSTAMP:20260421T110843
CREATED:20250325T174634Z
LAST-MODIFIED:20250325T174634Z
UID:7751-1744826400-1744830000@wearefhci.com
SUMMARY:Cultivating a Unique Bond
DESCRIPTION:Join Pastors Carlos & Maria Almendarez as they explore the Names of God. \nViews: 1
URL:https://wearefhci.com/event/cultivating-a-unique-bond-11/
LOCATION:Zoom
CATEGORIES:Culture Clash
ATTACH;FMTTYPE=image/jpeg:https://wearefhci.com/wp-content/uploads/2024/04/Carlos-Maria-2.jpeg
END:VEVENT
BEGIN:VEVENT
DTSTART;TZID=America/Chicago:20250414T190000
DTEND;TZID=America/Chicago:20250414T200000
DTSTAMP:20260421T110843
CREATED:20250325T174602Z
LAST-MODIFIED:20250325T174602Z
UID:7748-1744657200-1744660800@wearefhci.com
SUMMARY:Life Group 2025
DESCRIPTION:Let’s dive deep into Matthew 6:33 with Pastor Yo! \nViews: 1
URL:https://wearefhci.com/event/life-group-2025-7/
LOCATION:Zoom
ATTACH;FMTTYPE=image/png:https://wearefhci.com/wp-content/uploads/2025/03/8009490362815311717.png
END:VEVENT
BEGIN:VEVENT
DTSTART;TZID=America/Chicago:20250413T170000
DTEND;TZID=America/Chicago:20250413T180000
DTSTAMP:20260421T110843
CREATED:20250325T174452Z
LAST-MODIFIED:20250325T174452Z
UID:7746-1744563600-1744567200@wearefhci.com
SUMMARY:FHCI Massachusetts Sunday Service
DESCRIPTION:Join Pastors Carlos & Maria Almendarez for FHCI Massachusetts Sunday Worship Service! \nViews: 1
URL:https://wearefhci.com/event/fhci-massachusetts-sunday-service-15/
LOCATION:Facebook Live
CATEGORIES:Sunday Service
ATTACH;FMTTYPE=image/jpeg:https://wearefhci.com/wp-content/uploads/2025/01/IMG_6923.jpg
ORGANIZER;CN="Without Walls Ministry":MAILTO:withoutwallsministry2024@gmail.com
END:VEVENT
BEGIN:VEVENT
DTSTART;TZID=America/Chicago:20250413T103000
DTEND;TZID=America/Chicago:20250413T120000
DTSTAMP:20260421T110843
CREATED:20250325T174414Z
LAST-MODIFIED:20250325T174414Z
UID:7744-1744540200-1744545600@wearefhci.com
SUMMARY:FHCI Worship & Word Service
DESCRIPTION:Come join us! \nViews: 1
URL:https://wearefhci.com/event/fhci-worship-word-service-23/
LOCATION:Fathers Heart Church International\, 5824 W. Diversey\, Chicago\, IL\, 60639\, United States
CATEGORIES:Sunday Service
ATTACH;FMTTYPE=image/jpeg:https://wearefhci.com/wp-content/uploads/2024/02/JPEG-e1707760486717.jpg
END:VEVENT
BEGIN:VEVENT
DTSTART;TZID=America/Chicago:20250409T193000
DTEND;TZID=America/Chicago:20250409T203000
DTSTAMP:20260421T110843
CREATED:20250325T174256Z
LAST-MODIFIED:20250325T174256Z
UID:7739-1744227000-1744230600@wearefhci.com
SUMMARY:Choque Cultural
DESCRIPTION:Estudio biblico con el Apostol David Cruz \nViews: 1
URL:https://wearefhci.com/event/choque-cultural-15/
LOCATION:Zoom
CATEGORIES:Choque Cultural
ATTACH;FMTTYPE=image/jpeg:https://wearefhci.com/wp-content/uploads/2025/03/6478922312950148910.jpg
END:VEVENT
END:VCALENDAR